{"text_format":"2","workbook":"xlsx","n_sheets":2,"sheets":["2019년 교육과정 편성(안) ","2024년 이러닝 운영과정 목록"],"not_rendered":{"charts":0,"images":0,"macros":0,"external_links":0,"defined_names":4,"comments":0,"pivot_tables":0},"unopened":[],"bounds":{"document_bytes":16777216,"sheet_cells":100000,"run_cost":"one","rows_first":2000,"rows_last":500,"rows_between":2000,"halvings":0,"cell_chars":16384,"cell_head_chars":4096},"cells_cut":0,"cells_raw":0,"read":"whole","date_system":"1900"}

{"sheet":"2019년 교육과정 편성(안) ","index":0,"n_rows":139,"n_cols":45,"rows_kept":139,"cut":false,"hidden":true,"merged":[[0,38,0,42],[1,32,1,37],[1,38,1,42],[2,0,3,3],[2,6,3,6],[2,7,3,7],[2,9,3,9],[2,10,2,12],[2,13,2,15],[2,16,2,18],[2,39,3,39],[2,40,3,40],[2,41,2,42],[16,2,16,6],[2,32,3,32],[2,33,3,33],[2,34,3,34],[2,35,2,36],[2,29,3,29],[2,30,3,30],[2,31,3,31],[2,28,3,28],[2,8,3,8],[2,43,3,43],[5,0,5,6],[2,37,3,37],[2,38,3,38],[117,7,118,7],[117,11,118,11],[117,12,118,12],[117,29,118,29],[86,1,86,6],[87,29,93,29],[99,2,99,6],[101,2,101,6],[103,2,103,6],[2,19,2,21],[2,22,2,24],[2,25,2,27],[117,30,118,30],[87,30,93,30],[120,1,120,6],[122,1,122,6],[116,2,116,6],[117,6,118,6]]}
["2019 교육과정 편성 총괄표(안)",{"$nulls":37},"단위: 천원\n소요비용은 과정별 전체 소요비용(미운영 과정은 예상액을 포함)"]
["집합교육",{"$nulls":10},"*교육 횟수 및 인원에 기본교육은 포함하지 않았음",{"$nulls":20},"2017년 소요액",{"$nulls":5},"2018년 예상액"]
["구분",{"$nulls":5},"과정명","수준","선이수과정","교육대상","과정수",null,null,"교육일수",null,null,"기당인원",null,null,"교육횟수",null,null,"총인원",null,null,"연인원",null,null,"변경내용(2019년)","변경내용(2018년)","담당자","2018년 교육기간","합계","강사료","평가수당","수용비",null,"과정위탁","합계","강사료","평가수당","수용비",null,"참고사항"]
[{"$nulls":10},2019,2018,2017,2019,2018,2017,2019,2018,2017,2019,2018,2017,2019,2018,2017,2019,2018,2017,{"$nulls":7},"교재비","기타\n(다과등)",{"$nulls":4},"교재비","기타\n(다과등)"]
["집합교육",{"$nulls":5},"(   신설     폐강)",{"$nulls":4},{"$f":"L6+L15+L120","v":96},{"$f":"M6+M15+M120","v":86},null," "," ",null," "," ",null,{"$f":"U6+U15+U120","v":154},{"$f":"V6+V15+V120","v":132},null,{"$f":"X6+X15+X120","v":4210},{"$f":"Y6+Y15+Y120","v":3690},null,{"$f":"AA6+AA15+AA120","v":12405},{"$f":"AB6+AB15+AB120","v":11835},{"$nulls":4},{"$f":"SUM(AH5:AK5)","v":{"$error":"#REF!"}},{"$f":"AH6+AH15+AH87+#REF!+#REF!+#REF!","v":{"$error":"#REF!"}},{"$f":"AI6+AI15+AI87+#REF!+#REF!+#REF!","v":{"$error":"#REF!"}},{"$f":"AJ6+AJ15+AJ87+#REF!+#REF!+#REF!","v":{"$error":"#REF!"}},{"$f":"AK6+AK15+AK87+#REF!+#REF!+#REF!","v":{"$error":"#REF!"}},{"$f":"AL6+AL15+AL87+#REF!+#REF!+#REF!","v":{"$error":"#REF!"}}]
["A. 기본교육",{"$nulls":10},{"$f":"SUM(L7:L14)","v":8},{"$f":"SUM(M7:M14)","v":8},null,0,0,null,0,0,null,0,0,null,0,0,null,0,0,null,{"$f":"SUM(AD11:AD14)","v":0},null,null,11316,{"$f":"SUM(AH11:AH14)","v":7414},{"$f":"SUM(AI11:AI14)","v":250},{"$f":"SUM(AJ11:AJ14)","v":2930},{"$f":"SUM(AK11:AK14)","v":722},{"$f":"SUM(AL11:AL14)","v":21226}]
[{"$nulls":4},"A-0-0-0-01(09c)",null,"신규자 기본교육",null,null,"신규임용예정자",null,1,1,null,"3주","4주",{"$nulls":15},"9월 3주간",24281,14000,565,3960,5756,{"$nulls":7},"김진화"]
[{"$nulls":4},"A-0-0-0-08(17c)",null,"경력채용자 기본교육",null,null,"신규임용예정자",null,1,1,null,"2주","2주",{"$nulls":13},"2017년도 4주 → 3주","김진화","6월 2주간",9129,5688,125,1958,1358]
[{"$nulls":4},"A-0-0-0-02(12c)",null,"일반직 전직공무원 기본교육",null,null,"전직자",null,1,1,null,"1주","1주",{"$nulls":14},"김진화",null,4500,3500,null,700,300,{"$nulls":7},"김진화"]
[{"$nulls":4},"A-0-0-0-03(14c)",null,"전입공무원 실무교육",null,null,"전입자",null,1,1,null,"2주","2주",{"$nulls":16},0,{"$nulls":10},"16년 미실시"]
[{"$nulls":4},"A-0-0-0-06(16c)",null,"4급 승진후보자 역량향상 과정",null,null,"4급 승진 후보자",null,1,1,null,"1주","1주",{"$nulls":14},"김진화","5월",0,{"$nulls":11},"김진화"]
[{"$nulls":4},"A-0-0-0-07(16c)",null,"5급 승진후보자 역량향상과정",null,null,"5급승진 후보자",null,1,1,null,"1주","1주",{"$nulls":14},"김진화","2월",8540,6412,250,1622,256,{"$nulls":7},"김진화"]
[{"$nulls":4},"A-0-0-0-09(17c)",null,"관리자 혁신역량향상 과정(2017)",null,null,"4급이상 관리자",null,1,1,null,"2일","2일",{"$nulls":12},"협의회)토론시간 확대\n (검토의견) 토의 주제에 따라 토론시간 확대\n 과정을 1일로 단축필요(자체 수요조차 결과 1일 선호)"," ",{"$nulls":7},21226,{"$nulls":6},"순수현"]
[{"$nulls":4},"A-0-0-0-05(09c)",null,"지방청관리자 역량강화",null,null,"지방청 과장, 소장",null,1,1,null,"2일","2일",{"$nulls":12},"협의회)자유토론 업무공유 시간필요\n (검토의견) 업무공유 시간 배정",null,null,null,{"$f":"SUM(AH14:AK14)","v":2776},1002,null,1308,466," ",{"$nulls":5},"16년 위탁(1,000)","순수현"]
["B. 전문교육",{"$nulls":10},{"$f":"L16+L37+L56+L70+L87+L95+L99","v":85},{"$f":"M16+M37+M56+M70+M87+M95+M99","v":75},null,{"$f":"O16+O37+O56+O70+O87+O95+O99","v":213},{"$f":"P16+P37+P56+P70+P87+P95+P99","v":207},null,{"$f":"R16+R37+R56+R70+R87+R95+R99","v":1810},{"$f":"S16+S37+S56+S70+S87+S95+S99","v":1600},null,{"$f":"U16+U37+U56+U70+U87+U95+U99","v":147},{"$f":"V16+V37+V56+V70+V87+V95+V99","v":126},null,{"$f":"X16+X37+X56+X70+X87+X95+X99","v":3950},{"$f":"Y16+Y37+Y56+Y70+Y87+Y95+Y99","v":3490},null,{"$f":"AA16+AA37+AA56+AA70+AA87+AA95+AA99","v":11645},{"$f":"AB16+AB37+AB56+AB70+AB87+AB95+AB99","v":11255},{"$nulls":4},{"$f":"SUM(AH15:AK15)","v":{"$error":"#REF!"}},{"$f":"AH16+AH56+AH95","v":{"$error":"#REF!"}},{"$f":"AI16+AI56+AI95","v":{"$error":"#REF!"}},{"$f":"AJ16+AJ56+AJ95","v":{"$error":"#REF!"}},{"$f":"AK16+AK56+AK95","v":{"$error":"#REF!"}},{"$f":"AL16+AL56+AL95","v":{"$error":"#REF!"}}]
[null,"B-1. 국가통계",{"$nulls":9},{"$f":"L17+L32","v":16},15,null,49,47,null,490,445,null,27,27,null,830,805,null,2780,2765,{"$nulls":4},{"$f":"SUM(AH16:AK16)","v":{"$error":"#REF!"}},{"$f":"AH32+AH38+#REF!","v":{"$error":"#REF!"}},{"$f":"AI32+AI38+#REF!","v":{"$error":"#REF!"}},{"$f":"AJ32+AJ38+#REF!","v":{"$error":"#REF!"}},{"$f":"AK32+AK38+#REF!","v":{"$error":"#REF!"}},{"$f":"AL32+AL38+#REF!","v":{"$error":"#REF!"}}]
[null,null,"B-1-1. 국가통계 정책 및 기준",{"$nulls":8},{"$f":"L18+L27","v":12},11,null,33,31,null,330,285,null,19,19,null,510,485,null,1500,1485,null,{"$f":"SUM(AD19:AD30)","v":0},null,null,{"$f":"SUM(AH17:AK17)","v":32308},{"$f":"SUM(AH19:AH30)","v":22146},{"$f":"SUM(AI19:AI30)","v":420},{"$f":"SUM(AJ19:AJ30)","v":6814},{"$f":"SUM(AK19:AK30)","v":2928},{"$f":"SUM(AL19:AL30)","v":0}]
[null,null,null,"B-1-1-1. 국가통계 정책 ",{"$nulls":7},{"$f":"SUM(L19:L26)","v":8},{"$f":"SUM(M19:M26)","v":7},null,25,23,null,210,165,null,15,13,null,390,305,null,1260,1065]
[{"$nulls":4},"\nB-1-2-1-01(11c)\n",null,"국가통계 이해","초급",null,"제한없음",null,1,1,null,3,3,null,40,20,null,2,2,null,{"$f":"R19*U19","v":80},40,null,{"$f":"O19*R19*U19","v":240},120,null,"기당인원 20→40",null,"3.28.~3.30, 8.29.~8.31.",{"$f":"SUM(AH19:AK19)","v":10161},4424,null,3565,2172,{"$nulls":6},"전문교재","전문1팀"]
[{"$nulls":4},"B-1-2-1-02(08c)",null,"통계와 정책","중급","국가통계실무1-4","통계청",null,1,1,null,3,3,null,20,20,null,2,2,null,40,40,null,120,120,null,null,null,"2.5.~2.7. 7.2~7.4.",{"$f":"SUM(AH20:AK20)","v":5312},{"$f":"2316+2355","v":4671},{"$f":"170+250","v":420},0,{"$f":"120+101","v":221},{"$nulls":7},"빅데이터"]
[{"$nulls":4},"\nB-1-2-1-08(17c)\n",null,"정책과정과 통계의 역할","초급",null,"제한없음",null,1,1,null,3,3,null,20,20,null,2,2,null,40,40,null,120,120,null,"중급→초급",null,"5.16.~5.18, 10.15.~10.17.",{"$f":"SUM(AH21:AK21)","v":2984},2490,null,383,111,{"$nulls":7},"빅데이터"]
[{"$nulls":4},"\nB-1-2-1-09(17c)\n",null,"지역사회지표 작성과 활용","초급",null,"제한없음",null,1,1,null,2,3,null,30,30,null,1,1,null,30,30,null,60,90,"(활용도)관련성,활용도 효과성 낮음\n(수요조사)수강인원 부족, 사이버 강의로 대체 가능(통계개발원)","교육일수(3→2) ",null,"4.17~4.18,",{"$f":"SUM(AH22:AK22)","v":1274},1274]
[null,null," ",null," ",null,"국가통계조정관리(2018년 신규)","초급",null,"통계작성기관",null,1,null,null,3,null,null,30,null,null,2,null,null,60,0,null,180,0,"(협의회)교과목 개선요구\n(수요조사) 국가승인통계관리 명칭 변경하여 계속 운영(통계조정과)","신규",null,"4.11.~4.13, 11.14.~11.16"]
[{"$nulls":4},"\nB-1-2-1-05(15c)\n",null,"통계품질 및 관리","중급","국가통계실무1-4","제한없음",null,1,1,null,3,3,null,30,30,null,2,2,null,60,60,null,180,180,"(협의회)품질관리과 협의 교과목 개편 필요\n(수요조사) 교육일정 변경 : 4.23~25, 10.29~31 → \n                                 4.8~10 , 10월 1~2주(경제통계국),\n                    ",null,null,"4.25.~4.27, 10.10.~10.12.",{"$f":"SUM(AH24:AK24)","v":2228},1558,null,565,105,{"$nulls":6},"2016년 부교재 지급","전문1팀"]
[{"$nulls":4},"\nB-1-2-1-06(02c)\n",null,"통계기초 및 활용","초급",null,"제한없음",null,1,1,null,5,5,null,20,25,null,3,3,null,60,75,null,300,375,null," ",null,"3.19.~3.23, 5.14~5.18, 11.12.~11.16.",{"$f":"SUM(AH25:AK25)","v":7555},{"$f":"3187+3100","v":6287},null,949,{"$f":"210+109","v":319},{"$nulls":6},"전문교재, 2016년 부교재 지급","전문1팀"]
[{"$nulls":4},"\nB-1-2-1-07(17c)\n",null,"북한통계의 이해","초급",null,"제한없음",null,1,1,null,3,3,null,20,20,null,1,1,null,20,20,null,60,60,"(수요조사)확대 필요(통계정책과)"," ","김경아","10.10~10.12.",{"$f":"SUM(AH26:AK26)","v":0},0,null,0,0,{"$nulls":6},"유사과목으로 예산사정"]
[null,null,null,"B-1-1-2. 국가통계 기준 ",{"$nulls":7},{"$f":"SUM(L28:L31)","v":4},{"$f":"SUM(M28:M31)","v":4},null,8,8,null,120,120,null,4,6,null,120,180,null,240,420]
[{"$nulls":4},"B-1-2-1-03(06c)",null,"한국표준산업분류","초급",null,"제한없음",null,1,1,null,3,3,null,30,30,null,1,2,null,{"$f":"R28*U28","v":30},60,null,{"$f":"O28*R28*U28","v":90},180,null,"명칭변경 산업분류, 2회→1회. ",null,"6.4~6.5",{"$f":"SUM(AH28:AK28)","v":2108},1030,null,1078,0,{"$nulls":7},"전문1팀"]
[{"$nulls":4},"B-1-2-1-04(09c)",null,"한국표준직업분류","초급",null,"제한없음",null,1,1,null,3,3,null,30,30,null,1,2,null,30,60,null,90,180,null,"명칭변경 직업분류, 2회→1회 ",null,"5.14.~5.16",0,0,null,0,0,{"$nulls":7},"전문1팀"]
[{"$nulls":4},"B-1-2-1-10(17c)",null,"한국표준질병.사인분류 이해","초급",null,"제한없음",null,1,1,null,1,1,null,30,30,null,1,1,null,30,30,null,30,30,null," ",null,4.24,686,412,null,274]
[{"$nulls":4},"B-1-2-1-11(17c)",null,"한국표준질병.사인분류 활용","중급","한국표준질병.사인분류 이해","제한없음",null,1,1,null,1,1,null,30,30,null,1,1,null,30,30,null,30,30,null," ",null,7.13]
[null,null,"B-1-2. 국가통계 실무",{"$nulls":8},{"$f":"SUM(L33:L36)","v":4},{"$f":"SUM(M33:M36)","v":4},null,16,16,null,160,160,null,8,8,null,320,320,null,1280,1280,null,0,null,null,18442,{"$f":"SUM(AH33:AH36)","v":9697},{"$f":"SUM(AI33:AI36)","v":990},{"$f":"SUM(AJ33:AJ36)","v":6133},{"$f":"SUM(AK33:AK36)","v":1622},{"$f":"SUM(AL33:AL36)","v":0}]
[{"$nulls":4},"B-1-1-0-01(15c)",null,"국가통계실무1(조사설계 및 조사표 설계 등)","초급",null,"1기  통계청\n2기 제한없음",null,1,1,null,4,4,null,40,40,null,2,2,null,{"$f":"R33*U33","v":80},80,null,{"$f":"O33*R33*U33","v":320},320,"(수요조사)각과정별 3회 확대(경인, 호남)","상반기(1기)통계청, 하반기(2기) 제한없음 ","김경아","2.6~2.9, 9.17.~9.20.",6192,3740,530,1150,772,{"$nulls":7},"서유정"]
[{"$nulls":4},"B-1-1-0-02(15c)",null,"국가통계실무2(표본설계 및 추정)","초급",null,"1기  통계청\n2기 제한없음",null,1,1,null,4,4,null,40,40,null,2,2,null,80,80,null,320,320,"             경제활동인구조사 실사기간 아닌 기간 실시(경인)",null,"김경아","3.20.~3.23, 10.23.~10.26.",3829,1710,10,1812,297,{"$nulls":7},"서유정"]
[{"$nulls":4},"B-1-1-0-03(15c)",null,"국가통계실무3(자료수집ㆍ처리 및 분석)","초급",null,"1기  통계청\n2기 제한없음",null,1,1,null,4,4,null,40,40,null,2,2,null,80,80,null,320,320,null,null,"김경아","4.24.~4.27, 11.6.~11.9.",3707,1876,230,1348,253,{"$nulls":7},"서유정"]
[{"$nulls":4},"B-1-1-0-04(15c)",null,"국가통계실무4(통계작성ㆍ공표 등)","초급",null,"1기  통계청\n2기 제한없음",null,1,1,null,4,4,null,40,40,null,2,2,null,80,80,null,320,320,null,null,"김경아","5.29.~6.1, 11.20~11.23.",4714,2371,220,1823,300,{"$nulls":7},"서유정"]
[null,"B-2. 통계작성 체계",{"$nulls":9},{"$f":"L38","v":13},{"$f":"M38","v":10},null,{"$f":"O38","v":41},32,null,325,240,null,19,13,null,515,340,null,1575,1050,null," ",null,null,{"$f":"SUM(AH37:AK37)","v":{"$error":"#REF!"}},{"$f":"AH38+#REF!","v":{"$error":"#REF!"}},{"$f":"AI38+#REF!","v":{"$error":"#REF!"}},{"$f":"AJ38+#REF!","v":{"$error":"#REF!"}},{"$f":"AK38+#REF!","v":{"$error":"#REF!"}},{"$f":"AL38+#REF!","v":{"$error":"#REF!"}}]
[null,null,"B-2-1. 통계작성 프로세스",{"$nulls":8},{"$f":"L39+L41+L46+L51","v":13},{"$f":"M39+M41+M46+M51","v":10},null,{"$f":"O39+O41+O46+O51","v":41},{"$f":"P39+P41+P46+P51","v":32},null,{"$f":"R39+R41+R46+R51","v":325},{"$f":"S39+S41+S46+S51","v":240},null,{"$f":"U39+U41+U46+U51","v":19},{"$f":"V39+V41+V46+V51","v":13},null,{"$f":"X39+X41+X46+X51","v":515},{"$f":"Y39+Y41+Y46+Y51","v":340},null,{"$f":"AA39+AA41+AA46+AA51","v":1575},{"$f":"AB39+AB41+AB46+AB51","v":1050},{"$nulls":4},732847,{"$f":"AH17+AH39+AH41+AH46+AH65+AH51+AH71","v":511013},{"$f":"AI17+AI39+AI41+AI46+AI65+AI51+AI71","v":56580},{"$f":"AJ17+AJ39+AJ41+AJ46+AJ65+AJ51+AJ71","v":100668},{"$f":"AK17+AK39+AK41+AK46+AK65+AK51+AK71","v":64586},{"$f":"AL17+AL39+AL41+AL46+AL65+AL51+AL71","v":0}]
[null,null,null,"B-2-1-1. 조사설계",{"$nulls":7},{"$f":"L40","v":1},1,null,4,4,null,20,20,null,1,1,null,20,20,null,80,80,null," ",null,null,2544,2268,0,233,43,0]
[{"$nulls":4},"B-1-2-2-01(09c)",null,"표본실무","초급",null,"제한없음",null,1,1,null,4,4,null,20,20,null,1,1,null,{"$f":"R40*U40","v":20},{"$f":"S40*V40","v":20},null,{"$f":"O40*R40*U40","v":80},{"$f":"P40*S40*V40","v":80},null,"유지, 표본이론 및 실무 명칭변경\n중급→초급",null,"10.22.~10.25.",2544,2268,null,233,43,{"$nulls":7},"전문1팀"]
[null,null,null,"B-2-1-2. 자료수집",{"$nulls":7},{"$f":"SUM(L42:L45)","v":4},{"$f":"SUM(M42:M45)","v":1},null,{"$f":"SUM(O42:O45)","v":12},{"$f":"SUM(P42:P45)","v":3},null,{"$f":"SUM(R42:R45)","v":110},{"$f":"SUM(S42:S45)","v":30},null,{"$f":"SUM(U42:U45)","v":7},{"$f":"SUM(V42:V45)","v":2},null,{"$f":"SUM(X42:X45)","v":190},{"$f":"SUM(Y42:Y45)","v":60},null,{"$f":"SUM(AA42:AA45)","v":570},{"$f":"SUM(AB42:AB45)","v":180},null,{"$f":"SUM(AD42:AD42)","v":0},null,null,6756,{"$f":"SUM(AH42:AH42)","v":4336},{"$f":"SUM(AI42:AI42)","v":0},{"$f":"SUM(AJ42:AJ42)","v":1943},{"$f":"SUM(AK42:AK42)","v":477},{"$f":"SUM(AL42:AL42)","v":0}]
[{"$nulls":4},"B-1-2-3-03(14c)",null,"통계조사관 직무연수","초급",null,"통계청",null,1,1,null,3,3,null,30,30,null,2,2,null,{"$f":"R42*U42","v":60},60,null,{"$f":"O42*R42*U42","v":180},180,"(협의회)엑셀등 기초전산교육시간 확대\n(검토의견) 현장조사 스킬 등 업무 관련 내용 확대/엑셀시간 조정\n              교육일자를 월초, 월말로 조정",null,null,"2.5.~2.7, 9.17.~9.19.",6756,4336,null,1943,477,{"$nulls":6},"전문교재","전문1팀"]
[{"$nulls":4}," ",null,"조사행정 역량향상(2018년 신규)","초급",null,"통계청",null,1,null,null,3,0,null,30,null,null,2,null,null,60,0,null,180,0,"(수요조사)확대 필요\n 교육기간 연장 필요: 3일 →4일(경인)\n 교육일정 변경 : 3월 3째, 10월 4째 → 6월4째, 9월 2째(조사기획과)\n                     10월 넷째주 수목금→9월 둘째주 화수목금(4일) (경인)\n                     3월 3째, 10월 4째 → 2월, 8월(호남)\n 교육과정 세분화 : 서무, 회계 등 세분화(경인, 호남)","신규",null,"3.14~3.16, 10.24~10.26."]
[{"$nulls":4}," ",null,"멀티현장전문가 역량향상(2018년 신규)","중급","국가통계실무1-4","통계청",null,1,null,null,3,0,null,30,null,null,1,null,null,30,0,null,90,0,"(수요조사)축소 필요 : 2회 →1회(동남)\n(수요조사)교육일정 변경 : 9월 2째주 →3월 2째(조사기획과)","신규  ",null,"3.26.~3.28, 9.12~9.14"]
[{"$nulls":4}," ",null,"지역통계 실무(2018년 신규)","초급",null,"제한없음",null,1,null,null,3,0,null,20,null,null,2,null,null,{"$f":"R45*U45","v":40},{"$f":"S45*V45","v":0},null,{"$f":"O45*R45*U45","v":120},{"$f":"P45*S45*V45","v":0},"(협의회)호남청외 교육신청자 없음 검토 필요\n(수요조사)축소 필요 : 2회 →1회(충청)","신규  ",null,"3.26.~3.28, 9.12~9.14"]
[null,null,null,"B-2-1-3. 자료처리 및 분석",{"$nulls":7},{"$f":"SUM(L47:L50)","v":4},{"$f":"SUM(M47:M50)","v":4},null,{"$f":"SUM(O47:O50)","v":13},{"$f":"SUM(P47:P50)","v":13},null,{"$f":"SUM(R47:R50)","v":85},{"$f":"SUM(S47:S50)","v":80},null,{"$f":"SUM(U47:U50)","v":4},{"$f":"SUM(V47:V50)","v":4},null,{"$f":"SUM(X47:X50)","v":85},{"$f":"SUM(Y47:Y50)","v":80},null,{"$f":"SUM(AA47:AA50)","v":265},{"$f":"SUM(AB47:AB50)","v":250},null,{"$f":"SUM(AD48:AD48)","v":0},null,null,{"$f":"SUM(AH46:AK46)","v":1576},{"$f":"SUM(AH48:AH48)","v":1170},{"$f":"SUM(AI48:AI48)","v":0},{"$f":"SUM(AJ48:AJ48)","v":286},{"$f":"SUM(AK48:AK48)","v":120},{"$f":"SUM(AL48:AL48)","v":0}]
[{"$nulls":4},"B-1-2-3-01(06c)",null,"계절조정실무","중급","국가통계실무1-4, SAS입문","통계청",null,1,1,null,2,2,null,30,30,null,1,1,null,{"$f":"R47*U47","v":30},30,null,{"$f":"O47*R47*U47","v":60},60,null,"유지",null,"1.11~1.12.",{"$f":"SUM(AH47:AK47)","v":2422},1432,null,703,287,{"$nulls":7},"전문1팀"]
[{"$nulls":4},"B-1-2-4-01(12c)",null,"데이터 에디팅","중급","국가통계실무1-5, SAS입문","제한없음",null,1,1,null,4,3,null,20,15,null,1,1,null,20,15,null,80,45,null,"명칭변경 에디팅\n교육일수(3→4), 인원(15→20)",null,"4.10.~4.13.",1576,1170,null,286,120,{"$nulls":7},"빅데이터"]
[{"$nulls":4},"B-1-2-3-01(07c)",null,"시계열분석","중급","통계기초 및 활용\n한국표준산업분류","제한없음",null,1,1,null,4,5,null,20,20,null,1,1,null,20,20,null,80,100,"(협의회)시계열분석의이론과실습으로 5일 과정운영\n(활용도)관련성,효과성 낮게 나옴","고급→중급, 교육일수(5→4)",null,"4.11~4.13.",4750,4100,0,504,146,{"$nulls":7},"전문1팀"]
[{"$nulls":4},"B-1-2-3-01(08c)",null,"지수이론","중급","국가통계실무1-4, SAS입문","제한없음",null,1,1,null,3,3,null,15,15,null,1,1,null,15,15,null,45,45,null,"유지",null,"7.9~7.11.",2812,2266,null,412,134,{"$nulls":6},"2016년 폐강","전문1팀"]
[null,null,null,"B-2-1-4. 공표 및 관리",{"$nulls":7},{"$f":"SUM(L52:L55)","v":4},{"$f":"SUM(M52:M55)","v":4},null,12,12,null,110,110,null,7,6,null,220,180,null,660,540,null,0,null,null,12984,{"$f":"SUM(AH52:AH55)","v":7835},{"$f":"SUM(AI52:AI55)","v":0},{"$f":"SUM(AJ52:AJ55)","v":4718},{"$f":"SUM(AK52:AK55)","v":431},{"$f":"SUM(AL52:AL55)","v":0}]
[{"$nulls":4},"B-1-2-6-04(01c)",null,"국가통계정보의 활용","초급",null,"제한없음",null,1,1,null,3,3,null,20,20,null,1,1,null,{"$f":"R52*U52","v":20},20,null,{"$f":"O52*R52*U52","v":60},60,null,null,null,"3.7.~3.9.",2062,1380,null,682,0,{"$nulls":7},"전문1팀"]
[{"$nulls":4},"B-1-2-6-01(11c)",null,"매스킹기법","중급","국가통계실무1-4, SAS입문","제한없음",null,1,1,null,3,3,null,20,20,null,1,1,null,20,20,null,60,60,null,"유지",null,"6.18~6.20.",1764,1490,0,274,0,{"$nulls":7},"빅데이터"]
[{"$nulls":4},"B-1-2-6-03(15c)",null,"오피스를 활용한 데이터 시각화","중급","국가통계실무1-4","제한없음",null,1,1,null,3,3,null,40,40,null,3,2,null,120,80,null,360,240,"(수요조사)교육회차 확대 필요(경인)\n(활용도)교육기간 연장 필요 : 3일 →5일(경인)","수강생에 대한 사전조사. 횟수(2→3) ",null,"3.12.~3.14. 7.18.~7.20, 9.12.~9.14.",6416,3192,null,2867,357,{"$nulls":7},"전문1팀"]
[{"$nulls":4},"B-1-2-6-02(10c)",null,"통계보고서 작성","중급","국가통계실무1-4","제한없음",null,1,1,null,3,3,null,30,30,null,2,2,null,60,60,null,180,180,null,"유지",null,"5.9~5.11, 10.16.~10.18.",2742,1773,null,895,74,{"$nulls":6},"전문교재","전문1팀"]
[null,"B-3. 통계작성",{"$nulls":9},{"$f":"L57+L61+L65","v":10},{"$f":"M57+M61+M65","v":9},null,28,25,null,220,195,null,13,13,null,310,305,null,890,895,null,{"$f":"AD57+AD61","v":0},null,null,20945,{"$f":"AH57+AH61","v":13669},{"$f":"AI57+AI61","v":0},{"$f":"AJ57+AJ61","v":5402},{"$f":"AK57+AK61","v":1874},{"$f":"AL57+AL61","v":0}]
[null,null,"B-3-1. 경제분야",{"$nulls":8},{"$f":"SUM(L58:L60)","v":3},{"$f":"SUM(M58:M60)","v":3},null,9,8,null,70,65,null,5,5,null,130,125,null,390,355,null,0,null,null,11453,{"$f":"SUM(AH58:AH60)","v":7853},{"$f":"SUM(AI58:AI60)","v":0},{"$f":"SUM(AJ58:AJ60)","v":2680},{"$f":"SUM(AK58:AK60)","v":920},{"$f":"SUM(AL58:AL60)","v":0}]
[{"$nulls":4},"B-2-1-0-04(16c)",null,"경제통계의 이해","중급","국가통계의 이해,국가통계실무1-4","제한없음",null,1,1,null,3,2,null,20,20,null,1,1,null,{"$f":"R58*U58","v":20},20,null,{"$f":"O58*R58*U58","v":60},40,null,"명칭변경 경제통계의 이해",null,"9.3.~9.5.",1635,1257,null,306,72,{"$nulls":7},"전문1팀"]
[{"$nulls":4},"B-2-1-0-03(07c)",null,"국민계정","중급","국가통계의 이해,국가통계실무1-4","제한없음",null,1,1,null,3,3,null,20,15,null,1,1,null,20,15,null,60,45,null,"유지",null,"11.5.~11.7. ",0,0,null,0,0,{"$nulls":7},"전문1팀"]
[{"$nulls":4},"B-2-1-0-02(03c)",null,"재무제표","중급","국가통계의 이해,국가통계실무1-4","제한없음",null,1,1,null,3,3,null,30,30,null,3,3,null,90,90,null,270,270,"(수요조사)중급, 고급 과정 개설 요청(건강보험공단)","유지",null,"2.20.~2.22, 7.25~7.27, 9.5.~9.7.",9818,6596,null,2374,848,{"$nulls":7},"전문1팀"]
[null,null,"B-3-2. 사회분야",{"$nulls":8},{"$f":"SUM(L62:L64)","v":3},{"$f":"SUM(M62:M64)","v":3},null,{"$f":"SUM(O62:O64)","v":9},8,null,60,60,null,3,4,null,60,80,null,180,240,null,0,null,null,9492,{"$f":"SUM(AH62:AH64)","v":5816},{"$f":"SUM(AI62:AI64)","v":0},{"$f":"SUM(AJ62:AJ64)","v":2722},{"$f":"SUM(AK62:AK64)","v":954},{"$f":"SUM(AL62:AL64)","v":0}]
[{"$nulls":4},"B-2-2-0-03(15c)",null,"농어업통계의 이해","중급","국가통계의 이해,국가통계실무1-4","제한없음",null,1,1,null,3,4,null,20,20,null,1,2,null,{"$f":"R62*U62","v":20},40,null,{"$f":"O62*R62*U62","v":60},160,null,"교육일수(4→3),교육횟수(2→1)",null,"6.18~6.20.",5692,3416,null,1638,638,{"$nulls":7},"전문1팀"]
[{"$nulls":4},"B-2-2-0-06(16c)",null,"사회통계의 이해","중급","국가통계의 이해,국가통계실무1-4","제한없음",null,1,1,null,3,2,null,20,20,null,1,1,null,20,20,null,60,40,null,"명칭변경 사회통계의 이해,교육일수(2→3)",null,"7.25.~7.27,",2058,1300,null,600,158,{"$nulls":7},"전문1팀"]
[{"$nulls":4},"B-2-2-0-08(16c)",null,"인구통계의 이해","중급","국가통계의 이해,국가통계실무1-4","제한없음",null,1,1,null,3,2,null,20,20,null,1,1,null,20,20,null,60,40,null,"명칭변경 인구통계의 이해교육일수(2→3)",null,"4.16.~4.18.",1742,1100,null,484,158,{"$nulls":7},"전문1팀"]
[null,null,"B-1-3. 빅데이터",{"$nulls":8},{"$f":"SUM(L66:L69)","v":4},{"$f":"SUM(M66:M69)","v":3},null,{"$f":"SUM(O66:O69)","v":10},{"$f":"SUM(P66:P69)","v":9},null,{"$f":"SUM(R66:R69)","v":90},{"$f":"SUM(S66:S69)","v":70},null,{"$f":"SUM(U66:U69)","v":5},{"$f":"SUM(V66:V69)","v":4},null,{"$f":"SUM(X66:X69)","v":120},{"$f":"SUM(Y66:Y69)","v":100},null,{"$f":"SUM(AA66:AA69)","v":320},{"$f":"SUM(AB66:AB69)","v":300},null,{"$f":"SUM(AD47:AD50)","v":0},null,null,11560,{"$f":"SUM(AH47:AH50)","v":8968},{"$f":"SUM(AI47:AI50)","v":0},{"$f":"SUM(AJ47:AJ50)","v":1905},{"$f":"SUM(AK47:AK50)","v":687},{"$f":"SUM(AL47:AL50)","v":0}]
[{"$nulls":4},"B-1-2-3-04(16c)",null,"빅데이터와 행정자료의 이해","초급",null,"통계청",null,1,1,null,3,3,null,30,30,null,2,2,null,{"$f":"R66*U66","v":60},60,null,{"$f":"O66*R66*U66","v":180},180,"(수요조사)일정변경 : 2.21~,23, 6.20~.22 → 5.8~10, 6월 1~2주(경제통계국)"," ",null,"2.21.~2.23, 6.20~6.22",8649,5246,250,2688,465,{"$nulls":7},"빅데이터"]
[{"$nulls":4},"B-1-2-3-05(16c)",null,"빅데이터 실무기술","중급","빅데이터와행정자료의이해,\nR,초급통계분석","제한없음",null,1,1,null,3,3,null,20,20,null,1,1,null,20,20,null,60,60,null,null,null,"8.20.~8.22,",5327,4482,null,585,260,{"$nulls":7},"빅데이터"]
[{"$nulls":4}," ",null,"데이터기반정책수립","중급",null,"제한없음",null,1,null,null,1,null,null,20,null,null,1,null,null,20,0,null,20,0,null,"신규",null,"9.4.~9.5."]
[{"$nulls":4},"B-1-2-3-06(10c)",null,"행정자료 통계 작성","고급","빅데이터실무기술","제한없음",null,1,1,null,3,3,null,20,20,null,1,1,null,20,20,null,60,60,"(협의회)행정자료관리과, 행정통계과 협의 개편필요\n           SAS 입문 과정 선행 이수 필요","대상(통계청→제한없음)",null,"5.9~5.11,",{"$f":"SUM(AH69:AK69)","v":3144},2288,null,715,141,{"$nulls":7},"빅데이터"]
[null,"B-4. 통계패키지",{"$nulls":9},{"$f":"L71+L77+L81+L84","v":12},{"$f":"M71+M77+M81+M84","v":11},null,44,39,null,350,310,null,27,23,null,800,680,null,2920,2560,null," ",null,null,{"$f":"SUM(AH70:AK70)","v":665119},{"$f":"AH71+AH73","v":464290},{"$f":"AI71+AI73","v":56160},{"$f":"AJ71+AJ73","v":84769},{"$f":"AK71+AK73","v":59900},{"$f":"AL71+AL73","v":0}]
[null,null,"B-4-1. R",{"$nulls":8},{"$f":"SUM(L72:L76)","v":5},{"$f":"SUM(M72:M76)","v":4},null,15,10,null,150,100,null,12,8,null,360,220,null,1080,620,null,{"$f":"SUM(AD76:AD86)","v":0},null,null,{"$f":"SUM(AH71:AK71)","v":665119},{"$f":"SUM(AH76:AH86)","v":464290},{"$f":"SUM(AI76:AI86)","v":56160},{"$f":"SUM(AJ76:AJ86)","v":84769},{"$f":"SUM(AK76:AK86)","v":59900},{"$f":"SUM(AL76:AL86)","v":0}]
[{"$nulls":4},"B-3-0-0-08(15c)",null,"R 입문","초급",null,"제한없음",null,1,1,null,3,3,null,30,30,null,4,3,null,{"$f":"R72*U72","v":120},90,null,{"$f":"O72*R72*U72","v":360},270,null,"교육횟수(3→4) R프로그래밍 활용 명칭 변경",null,"3.5~3.7, 5.1~5.3, 7.9~7.11, 9.10~9.12.",{"$f":"SUM(AH72:AK72)","v":9000},7110,null,1080,810,{"$nulls":7},"빅데이터"]
[{"$nulls":4},"B-3-0-0-07(12c)",null,"R 초급통계분석","초급",null,"제한없음",null,1,1,null,3,3,null,30,30,null,4,3,null,120,90,null,360,270,"(협의회)실습 위주 내용편성 필요","R을활용한 통계분석 명칭변경\n중급→초급",null,"4.2.~4.4, 5.28~5.30, 8.27~8.29.\n10.10.~10.12."]
[{"$nulls":4},"B-3-0-0-10(17c)",null,"R 데이터시각화","초급",null,"제한없음",null,1,1,null,3,2,null,30,20,null,2,1,null,60,20,null,180,40,null,"중급→초급,교육일수((2→3)\n교육횟수(1→2) 협의회 같음\nR활용한 명칭변경",null,"5.23~5.25, 8.27.~8.29.",{"$f":"SUM(AH74:AK74)","v":2680},2100,null,460,120,{"$nulls":7},"빅데이터"]
[{"$nulls":4}," ",null,"R 중급통계분석","중급",null,"제한없음",null,1,0,null,3,0,null,30,0,null,1,0,null,{"$f":"R75*U75","v":30},0,null,90,0,null," 신규",null,"6.25~6.27.",{"$f":"SUM(AH75:AK75)","v":10173},7473,null,1890,810,{"$nulls":7},"빅데이터"]
[{"$nulls":4},"B-3-0-0-09(17c)",null,"R 고급통계분석","고급","R중급통계분석","제한없음",null,1,1,null,3,2,null,30,20,null,1,1,null,{"$f":"R76*U76","v":30},{"$f":"S76*V76","v":20},null,90,40,null,"교육일수(2→3) 협의회 같음\n교육인원 확대(20→30)\n명칭변경, R을 활용한 데이터마이닝",null,"9.17.~9.19.",{"$f":"SUM(AH76:AK76)","v":2720},2100,null,500,120,{"$nulls":7},"빅데이터"]
[null,null,"B-4-2. SAS",{"$nulls":8},{"$f":"SUM(L78:L80)","v":3},{"$f":"SUM(M78:M80)","v":3},null,13,13,null,70,80,null,6,6,null,140,160,null,580,680,null,{"$f":"SUM(AD79:AD91)","v":0},null,null,{"$f":"SUM(AH77:AK77)","v":336716},{"$f":"SUM(AH79:AH91)","v":236226},{"$f":"SUM(AI79:AI91)","v":30240},{"$f":"SUM(AJ79:AJ91)","v":40405},{"$f":"SUM(AK79:AK91)","v":29845},{"$f":"SUM(AL79:AL91)","v":0}]
[{"$nulls":4},"B-3-0-0-01(95c)",null,"SAS 입문","초급",null,"제한없음",null,1,1,null,3,3,null,30,30,null,2,2,null,{"$f":"R78*U78","v":60},60,null,{"$f":"O78*R78*U78","v":180},180,null,"명칭변경, SAS 프로그래밍 활용 ","김경아","5.9.~5.11, 9.5.~9.7.",{"$f":"SUM(AH78:AK78)","v":9845},4608,null,4427,810,{"$nulls":7},"서유정"]
[{"$nulls":4},"B-3-0-0-06(10c)",null,"SAS 중급통계분석","중급","국가통계실무1-4,SAS입문","제한없음",null,1,1,null,5,5,null,20,25,null,2,2,null,40,50,null,200,250,null,"명칭변경, SAS 대용량자료처리","김경아","3.5~3.9, 7.16.~7.20,",11673,9948,null,1050,675,{"$nulls":7},"서유정"]
[{"$nulls":4},"B-3-0-0-03(00c)",null,"SAS 고급통계분석","고급","SAS 중급통계분석","제한없음",null,1,1,null,5,5,null,20,25,null,2,2,null,40,50,null,200,250,null,"명칭변경, SAS 자료분석","김경아","6.18.~6.22, 10.29.~11.2.",9007,7124,null,1133,750,{"$nulls":7},"서유정"]
[null,null,"B-4-3. SPSS",{"$nulls":8},{"$f":"SUM(L82:L83)","v":2},{"$f":"SUM(M82:M83)","v":2},null,8,8,null,60,60,null,4,4,null,120,120,null,480,480,null,{"$f":"SUM(AD83:AD95)","v":0},null,null,{"$f":"SUM(AH81:AK81)","v":175902},{"$f":"SUM(AH83:AH95)","v":121964},{"$f":"SUM(AI83:AI95)","v":17280},{"$f":"SUM(AJ83:AJ95)","v":20810},{"$f":"SUM(AK83:AK95)","v":15848},{"$f":"SUM(AL83:AL95)","v":0}]
[{"$nulls":4},"B-3-0-0-02(99c)",null,"SPSS 초급통계분석","초급",null,"제한없음",null,1,1,null,3,3,null,30,30,null,2,2,null,{"$f":"R82*U82","v":60},{"$f":"S82*V82","v":60},null,{"$f":"O82*R82*U82","v":180},{"$f":"P82*S82*V82","v":180},null,"명칭변경 SPSS 통계활용, 중급→초급","김경아","3.14~3.16, 7.2~7.4,",{"$f":"SUM(AH82:AK82)","v":5580},3540,null,1500,540,{"$nulls":7},"서유정"]
[{"$nulls":4},"B-3-0-0-04(00c)",null,"SPSS 중급통계분석","중급","국가통계실무1-4,\nSPSS 초급통계분석","제한없음",null,1,1,null,5,5,null,30,30,null,2,2,null,{"$f":"R83*U83","v":60},{"$f":"S83*V83","v":60},null,{"$f":"O83*R83*U83","v":300},{"$f":"P83*S83*V83","v":300},"(협의회)중급자 교육생 선발 필요","명칭변경, SPSS 자료분석","김경아","2.19~2.23. 11.26.~11.30.",10660,8360,null,1500,800,{"$nulls":7},"서유정"]
[null,null,"B-4-4. 엑셀",{"$nulls":8},{"$f":"SUM(L85:L86)","v":2},{"$f":"SUM(M85:M86)","v":2},null,8,8,null,70,70,null,5,5,null,180,180,null,780,780,null,{"$f":"SUM(AD86:AD97)","v":0},null,null,{"$f":"SUM(AH84:AK84)","v":88563},{"$f":"SUM(AH86:AH97)","v":60851},{"$f":"SUM(AI86:AI97)","v":8640},{"$f":"SUM(AJ86:AJ97)","v":10900},{"$f":"SUM(AK86:AK97)","v":8172},{"$f":"SUM(AL86:AL97)","v":0}]
[{"$nulls":4},"B-5-0-0-03(15c)",null,"엑셀 초급","초급",null,"제한없음",null,1,1,null,5,5,null,40,40,null,3,3,null,{"$f":"R85*U85","v":120},{"$f":"S85*V85","v":120},null,{"$f":"O85*R85*U85","v":600},{"$f":"P85*S85*V85","v":600},null,"명칭변경 엑셀 활용 중급→초급","김경아","3.26.~3.30. 9.3~9.7, 10.15.~10.19.",{"$f":"SUM(AH85:AK85)","v":8586},5346,null,1440,1800,{"$nulls":7},"서유정"]
[{"$nulls":4},"B-3-0-0-05(00c)",null,"엑셀 중급","중급","엑셀초급","제한없음",null,1,1,null,3,3,null,30,30,null,2,2,null,{"$f":"R86*U86","v":60},{"$f":"S86*V86","v":60},null,{"$f":"O86*R86*U86","v":180},{"$f":"P86*S86*V86","v":180},"(협의회)제목과 교육내용이 다름(엑셀 통계분석) ","명칭변경 엑셀 통계분석","김경아","2.26~2.28. 11.5~11.7",5867,4223,null,1104,540,{"$nulls":7},"서유정"]
[null,"B-5. 전문관 양성 (* 7개 과정 중 2개 과정 운영)",{"$nulls":9},{"$f":"SUM(L88:L94)","v":2},2,null,0,0,null,0,0,null,2,2,null,20,20,null,{"$f":"SUM(AA88:AA94)","v":240},{"$f":"SUM(AB88:AB94)","v":240},{"$nulls":4},20878,{"$f":"SUM(AH88:AH94)","v":14870},{"$f":"SUM(AI88:AI94)","v":4320},{"$f":"SUM(AJ88:AJ94)","v":968},{"$f":"SUM(AK88:AK94)","v":720},{"$f":"SUM(AL88:AL94)","v":0}]
[{"$nulls":4},"B-4-0-0-05(12c)",null,"경제시계열분석 및 지수이론(2017년)","고급","시계열분석, 지수이론","통계청",null," ",1,null,"14주","14주",null,10,10,null,1,1,null,10,{"$f":"S88*V88","v":10},null,120,120,null,"수요조사 및 관련부서 협의 후에 운영과정 선정",null,null,0]
[{"$nulls":4},"B-4-0-0-04(11c)",null,"국민계정(2017년)","고급","경제통계의이해, 국민계정","통계청",null," ",1,null,"12주","12주",null,10,10,null,1,1,null,10,10,null,120,120,{"$nulls":4},0]
[{"$nulls":4},"B-4-0-0-07(16c)",null,"등록센서스","고급","인국통계의 이해","통계청",{"$nulls":4},"12주","12주",null,10,10,{"$nulls":4},{"$f":"R90*U90","v":0},0,null,null," ","(수요조사)폐지 요청(인구총조사과)",null,null,null,0]
[{"$nulls":4},"B-4-0-0-01(10c)",null,"무응답 자료처리 및 분석","고급","데이터데이팅","통계청",{"$nulls":4},"12주","12주",null,10,10,{"$nulls":4},{"$f":"R91*U91","v":0},0,null,null," ",{"$nulls":4},0]
[{"$nulls":4},"B-4-0-0-02(10c)",null,"인구통계분석(2018)","고급","인국통계의 이해","통계청",null,1," ",null,"12주","12주",null,10,10,null,null,0,null,{"$f":"R92*U92","v":0},0,null,0," ",{"$nulls":4},10439,7435,2160,484,360,{"$nulls":6},"2017년 교육시간 확대","전문1팀"]
[{"$nulls":4},"B-4-0-0-06(14c)",null,"통계분류","고급","한국표준산업,직업분류\n국가통계실무1-4\n한국질병사인분류활용","통계청",{"$nulls":4},"12주","12주",null,10,10,{"$nulls":4},{"$f":"R93*U93","v":0},0,null,null," ","(수요조사)주기적 개설 필요(통계기준과)",null,null,null,0]
[{"$nulls":4},"B-4-0-0-03(10c)",null,"표본설계 및 추정(2018년)","고급","표본실무","통계청",null,1," ",null,"12주","12주",null,10,10,null,null,0,null,{"$f":"R94*U94","v":0},0,null,0," ","(수요조사)교육대상 표본과 표본설계 실무자 우선 선발, \n             국가통계실무2, SAS고급통계분석 등 필수 선이수(표본과)",null,null,null,10439,7435,2160,484,360,{"$nulls":7},"전문1팀"]
[null,"B-6. 정보화",{"$nulls":9},{"$f":"SUM(L96:L98)","v":3},{"$f":"SUM(M96:M98)","v":3},null,12,11,null,110,110,null,8,8,null,310,310,null,1150,990,{"$nulls":4},20470,{"$f":"SUM(AH96:AH97)","v":13444},{"$f":"SUM(AI96:AI97)","v":0},{"$f":"SUM(AJ96:AJ97)","v":3930},{"$f":"SUM(AK96:AK97)","v":3096},{"$f":"SUM(AL96:AL97)","v":0}]
[{"$nulls":4},"B-5-0-0-02(10c)",null,"스마트 문서편집","초급",null,"제한없음",null,1,1,null,4,3,null,40,40,null,4,4,null,{"$f":"R96*U96","v":160},160,null,{"$f":"O96*R96*U96","v":640},480,null,"교육일수(3→4)","김경아","4.2.~4.5, 6.25~6.28, 8.27~8.30,\n9.10.~9.13,",10894,8044,null,1050,1800,{"$nulls":7},"서유정"]
[{"$nulls":4},"B-5-0-0-04(15c)",null,"파워포인트 활용","초급",null,"제한없음",null,1,1,null,3,3,null,40,40,null,3,3,null,120,120,null,360,360,"(수요조사)교육기간 연장 필요(건강보험공단)","중급→초급",null,"3.28~3.30, 7.4~7.6, 10.31~11.2.",{"$f":"SUM(AH97:AK97)","v":9576},5400,null,2880,1296,{"$nulls":7},"이러닝"]
[{"$nulls":4},"B-5-0-0-01(99c)",null,"액세스 활용","중급",null,"제한없음",null,1,1,null,5,5,null,30,30,null,1,1,null,30,30,null,150,150,null,"초급→중급","김경아","4.16.~4.20,",3815,2600,null,1125,90,{"$nulls":7},"서유정"]
[null,"B-7. 기타 통계교육",{"$nulls":9},{"$f":"L100+L104+L117+L102","v":29},{"$f":"M100+M104+M117+M102","v":25},null,{"$f":"O100+O104+O117+O102","v":39},{"$f":"P100+P104+P117+P102","v":53},null,{"$f":"R100+R104+R117+R102","v":315},{"$f":"S100+S104+S117+S102","v":300},null,{"$f":"U100+U104+U117+U102","v":51},{"$f":"V100+V104+V117+V102","v":40},null,{"$f":"X100+X104+X117+X102","v":1165},{"$f":"Y100+Y104+Y117+Y102","v":1030},null,{"$f":"AA100+AA104+AA117+AA102","v":2090},{"$f":"AB100+AB104+AB117+AB102","v":2755},null," ",null,null,{"$error":"#REF!"},{"$f":"SUM(AH101:AH104)","v":{"$error":"#REF!"}},{"$f":"SUM(AI101:AI104)","v":{"$error":"#REF!"}},{"$f":"SUM(AJ101:AJ104)","v":{"$error":"#REF!"}},{"$f":"SUM(AK101:AK104)","v":{"$error":"#REF!"}},{"$f":"SUM(AL101:AL104)","v":{"$error":"#REF!"}}]
[null,null,"B-7-1. 맞춤형 통계교육",{"$nulls":8},{"$f":"L101","v":17},{"$f":"M101","v":15},null,0,0,null,{"$f":"R101","v":25},25,null,17,15,null,425,375,null,0,750,{"$nulls":4},50000,32500,0,15500,2000,0]
[{"$nulls":4},"B-6-1-0-01~15(17c)",null,"맞춤형(기관)",{"$nulls":4},17,15,null,"1~3","1~3",null,25,25,null,17,15,null,{"$f":"R101*U101","v":425},{"$f":"S101*V101","v":375},null,0,750,null," 신규 15기관→17기관",null,null,50000,32500,null,15500,2000,{"$nulls":7},"빅데이터"]
[null,null,"B-7-2. 통계세미나",{"$nulls":8},{"$f":"L103","v":1},{"$f":"M103","v":1},null,1,1,null,40,40,null,4,4,null,160,160,null,160,160,{"$nulls":4},{"$error":"#REF!"},{"$f":"#REF!","v":{"$error":"#REF!"}},{"$f":"#REF!","v":{"$error":"#REF!"}},{"$f":"#REF!","v":{"$error":"#REF!"}},{"$f":"#REF!","v":{"$error":"#REF!"}},{"$f":"#REF!","v":{"$error":"#REF!"}}]
[{"$nulls":4},"B-6-0-0-01(16c)",null,"통계세미나","초급",null,"제한없음",null,1,1,null,1,1,null,40,40,null,4,4,null,{"$f":"R103*U103","v":160},{"$f":"S103*V103","v":160},null,{"$f":"O103*R103*U103","v":160},{"$f":"P103*S103*V103","v":160},{"$nulls":4},4850,3000,null,1500,350,{"$nulls":7},"박희경"]
[null,null,"B-7-3. 학생 및 교사 통계교육",{"$nulls":8},{"$f":"L105+L112","v":10},{"$f":"M105+M112","v":8},null,33,26,null,235,205,null,27,18,null,535,450,null,1705,1380,{"$nulls":4},{"$f":"SUM(AH104:AK104)","v":47584},{"$f":"SUM(AH106:AH111)","v":42184},{"$f":"SUM(AI106:AI111)","v":0},{"$f":"SUM(AJ106:AJ111)","v":3464},{"$f":"SUM(AK106:AK111)","v":1936},{"$f":"SUM(AL106:AL111)","v":90100}]
[null,null,null,"B-7-3-1. 학생교육",{"$nulls":7},{"$f":"SUM(L106:L111)","v":6},{"$f":"SUM(M106:M111)","v":6},null,17,17,null,175,175,null,13,13,null,375,375,null,1065,1065,null,{"$f":"SUM(AD106:AD107)","v":0},null,null,23000,{"$f":"SUM(AH106:AH107)","v":23000},{"$f":"SUM(AI106:AI107)","v":0},{"$f":"SUM(AJ106:AJ107)","v":0},{"$f":"SUM(AK106:AK107)","v":0},{"$f":"SUM(AL106:AL107)","v":72500}]
[{"$nulls":4},"B-6-3-0-06(13c)",null,"사랑나눔통계교실",null,null,"초등학교 5~6학년",null,1,1,null,3,3,null,25,25,null,3,3,null,{"$f":"R106*U106","v":75},75,null,{"$f":"O106*R106*U106","v":225},225,null,"교육횟수(3→2)","김진화","7.25~7.27, 8.8.~8.10.",15000,15000,null,null,null,52500,{"$nulls":5},"16년 위탁(31,980)","박주연"]
[{"$nulls":4},"B-6-3-0-01(99c)",null,"어린이 통계캠프",null,null,"초등학교 5~6학년",null,1,1,null,3,3,null,30,30,null,2,2,null,60,60,null,180,180,null,null,"서유정","7.30~8.1, 8.6 ~8.8.",8000,8000,null,null,null,20000,{"$nulls":5},"16년 위탁(8,050)","박희경"]
[{"$nulls":4},"B-6-3-0-03(06c)",null,"중학생 통계아카데미",null,null,"중학생",null,1,1,null,3,3,null,30,30,null,2,2,null,60,60,null,180,180,null,null,"순수현","5.30~6.1,  10.31.~11.2.",7000,7000,null,null,null,17600,{"$nulls":5},"16년 위탁(8,800)","순수현"]
[{"$nulls":4},"B-6-3-0-04(11c)",null,"고등학생 통계아카데미",null,null,"고등학생",null,1,1,null,2,2,null,30,30,null,2,2,null,60,60,null,120,120,null,null,"김경아","8.2.~8.3., 8.6.~8.7.",6728,4652,null,1366,710,{"$nulls":7},"서유정"]
[{"$nulls":4},"B-6-3-0-02(99c)",null,"대학생 통계실무워크숍",null,null,"대학생",null,1,1,null,3,3,null,30,30,null,2,2,null,60,60,null,180,180,null,null,"김경아","7.11.~7.13, 7.18.~7.20.",5604,3992,null,964,648,{"$nulls":7},"서유정"]
[{"$nulls":4},"B-6-3-0-05(11c)",null,"대학원생 통계논문작성",null,null,"대학원생",null,1,1,null,3,3,null,30,30,null,2,2,null,60,60,null,180,180,null," ",null,"7.23.~7.25, 8.1~8.3.",5252,3540,null,1134,578,{"$nulls":7},"전문1팀"]
[null,null,null,"B-7-3-2. 교사교육",{"$nulls":7},{"$f":"SUM(L113:L116)","v":4},{"$f":"SUM(M113:M116)","v":2},null,16,9,null,60,30,null,14,5,null,160,75,null,640,315,{"$nulls":4},7500,{"$f":"SUM(AH113:AH114)","v":6000},{"$f":"SUM(AI113:AI114)","v":0},{"$f":"SUM(AJ113:AJ114)","v":1000},{"$f":"SUM(AK113:AK114)","v":500},{"$f":"SUM(AL113:AL114)","v":0}]
[{"$nulls":4},"B-6-4-0-01(14c)",null,"초등 교사 통계연수",null,null,"초등교사",null,1,1,null,5,5,null,20,15,null,1,1,null,{"$f":"R113*U113","v":20},15,null,{"$f":"O113*R113*U113","v":100},75,null," ","서유정","7.30~8.3",3650,3000,null,400,250,{"$nulls":7},"박희경"]
[{"$nulls":4},"B-6-3-0-02(14c)",null,"중학교 교사 통계연수",null,null,"중학교",null,1,1,null,4,4,null,20,15,null,6,4,null,120,60,null,480,240,null,"교육횟수(4→6) \n고등학교 구별필요",null,"7.23~7.27, 7.30~8.3, 8.6~8.10.",3850,3000,null,600,250,{"$nulls":6},"16년 폐강","순수현"]
[{"$nulls":4}," ",null,"고등학교 교사 통계연수",null,null,"고등학교",null,1,0,null,3,0,null,20,0,null,1,0,null,20,0,null,60,0]
[{"$nulls":4}," ",null,"17개 시도교육청 교사위탁운영",null,null,"중등교사",null,1,0,null,4,0,null,0,0,null,6,0,null,{"$f":"R116*U116","v":0},0,null,{"$f":"O116*R116*U116","v":0},null,null,"신규"]
[null,null,"B-7-4. 외국인 통계교육",{"$nulls":8},{"$f":"SUM(L118:L119)","v":1},{"$f":"SUM(M118:M119)","v":1},null,{"$f":"SUM(O118:O119)","v":5},26,null,15,30,null,3,3,null,45,45,null,225,465,{"$nulls":4},{"$f":"SUM(AH117:AK117)","v":0},{"$f":"SUM(AH118:AH119)","v":0},{"$f":"SUM(AI118:AI119)","v":0},{"$f":"SUM(AJ118:AJ119)","v":0},{"$f":"SUM(AK118:AK119)","v":0},{"$f":"SUM(AL118:AL119)","v":0}]
[{"$nulls":4},"B-6-5-0-01(14c)",null,"외국인 통계연수/UNSIAP 초청연수",null,null,"외국통계공무원",null,1,1,null,0,21,null,0,15,null,0,1,null,{"$f":"U118*R118","v":0},{"$f":"V118*S118","v":15},null,{"$f":"O118*R118*U118","v":0},{"$f":"P118*S118*V118","v":315},null," 캄보디아 통계연수 폐지",{"$nulls":13},"연수경비\n1차 27,096\n2차 27,100"]
[{"$nulls":14},5,5,null,15,15,null,3,2,null,45,{"$f":"V119*S119","v":30},null,{"$f":"O119*R119*U119","v":225},{"$f":"P119*S119*V119","v":150}]
["C. 기타교육",{"$nulls":10},{"$f":"L121+L123","v":3},{"$f":"M121+M123","v":3},null,{"$f":"O121+O123","v":8},8,null,110,110,null,7,6,null,260,200,null,760,580,{"$nulls":4},{"$f":"SUM(AH120:AK120)","v":1236},{"$f":"AH121+AH169+AH198","v":832},{"$f":"AI121+AI169+AI198","v":0},{"$f":"AJ121+AJ169+AJ198","v":246},{"$f":"AK121+AK169+AK198","v":158},{"$f":"AL121+AL169+AL198","v":0}]
[null,"C-1. 시책교육",{"$nulls":9},{"$f":"L122","v":1},1,null,2,2,null,20,20,null,1,1,null,20,20,null,40,40,{"$nulls":4},1236,832,0,246,158,0]
[{"$nulls":4},"C-1-0-0-01(14c)",null,"소셜미디어의 이해","초급",null,"제한없음",null,1,1,null,2,2,null,20,20,null,1,1,null,{"$f":"R122*U122","v":20},{"$f":"S122*V122","v":20},null,{"$f":"O122*R122*U122","v":40},{"$f":"P122*S122*V122","v":40},"(수요조사)교육기간 연장 필요(건강보험공단)\n(의견) 독립시책교육과정으로 2일 과정으로 충분","정부3.0 정책의 이해 변경 ",null,null,1236,832,null,246,158,{"$nulls":7},"전문1팀"]
[null,"C-2. 일반소양",{"$nulls":9},{"$f":"SUM(L124:L125)","v":2},{"$f":"SUM(M124:M125)","v":2},null,6,6,null,90,90,null,6,5,null,240,180,null,720,540,{"$nulls":4},{"$error":"#REF!"},{"$f":"AH125+#REF!","v":{"$error":"#REF!"}},{"$f":"AI125+#REF!","v":{"$error":"#REF!"}},{"$f":"AJ125+#REF!","v":{"$error":"#REF!"}},{"$f":"AK125+#REF!","v":{"$error":"#REF!"}},{"$f":"AL125+#REF!","v":{"$error":"#REF!"}}]
[{"$nulls":4},"C-2-0-0-02(14c)",null,"현장조사 스트레스관리","초급",null,"통계청",null,1,1,null,3,3,null,30,30,null,4,4,null,{"$f":"R124*U124","v":120},{"$f":"S124*V124","v":120},null,{"$f":"O124*R124*U124","v":360},{"$f":"P124*S124*V124","v":360},"(교육일자) 월말, 월초로 지정(통계조사 일정상)"," ",null,"4.23.~4.25, 5.23~5.25, \n10.29.~10.31, 11.21.~11.23.",0,{"$nulls":4},69344,{"$nulls":5},"16년(52,080)"]
[{"$nulls":4},"C-2-0-0-01(14c)",null,"생활속의 음악",null,null,"제한없음",null,1,1,null,3,3,null,60,60,null,2,1,null,{"$f":"R125*U125","v":120},{"$f":"S125*V125","v":60},null,{"$f":"O125*R125*U125","v":360},{"$f":"P125*S125*V125","v":180},"(수요조사)확대 필요(경인)"," ",null,"5.30~6.1",2940,2400,null,null,540]
[]
[]
[{"$nulls":6},"신규과정 신청",{"$nulls":4},{"$f":"SUM(L129:L132)","v":0},{"$f":"SUM(M129:M132)","v":0},null,{"$f":"SUM(O129:O132)","v":0},{"$f":"SUM(P129:P132)","v":0},null,{"$f":"SUM(R129:R132)","v":0},{"$f":"SUM(S129:S132)","v":0},null,{"$f":"SUM(U129:U132)","v":0},{"$f":"SUM(V129:V132)","v":0},null,{"$f":"SUM(X129:X132)","v":0},{"$f":"SUM(Y129:Y132)","v":0},null,{"$f":"SUM(AA129:AA132)","v":0},{"$f":"SUM(AB129:AB132)","v":0}]
[{"$nulls":6},"통계생산패키지 활용",{"$nulls":22},"조사시스템관리과"]
[{"$nulls":6},"현장관리자(팀장) 역량강화",{"$nulls":22},"경인지방통계청"]
[{"$nulls":4}," ",null,"인문학 관련 소양 교육",{"$nulls":22},"경인지방통계청",null,"3.26.~3.28, 9.12~9.14"]
[{"$nulls":6},"R 고급 시각화",{"$nulls":22},"대외경제정책연구원"," ",null,{"$f":"SUM(AH132:AK132)","v":10173},7473,null,1890,810,{"$nulls":7},"빅데이터"]
[]
[{"$nulls":6},"폐지과정(5개)",{"$nulls":4},{"$f":"SUM(L135:L139)","v":0},{"$f":"SUM(M135:M139)","v":0},null,{"$f":"SUM(O135:O139)","v":0},{"$f":"SUM(P135:P139)","v":0},null,{"$f":"SUM(R135:R139)","v":0},{"$f":"SUM(S135:S139)","v":0},null,{"$f":"SUM(U135:U139)","v":0},{"$f":"SUM(V135:V139)","v":0},null,{"$f":"SUM(X135:X139)","v":0},{"$f":"SUM(Y135:Y139)","v":0},null,{"$f":"SUM(AA135:AA139)","v":0},{"$f":"SUM(AB135:AB139)","v":0}]
[]
[{"$nulls":31}," ",{"$f":"SUM(AH136:AK136)","v":1707},1672,0,null,35,{"$nulls":6},"2016 폐강","빅데이터"]
[{"$nulls":32},{"$f":"SUM(AH137:AK137)","v":5796},5053,null,519,224,{"$nulls":7},"빅데이터"]
[{"$nulls":31},"3.22~3.24(폐강)신청인원부족",{"$f":"SUM(AH138:AK138)","v":0},0,null,0,0,{"$nulls":6},"2016년 폐강","전문1팀"]
[{"$nulls":31},"5.10~5.12(폐강)",{"$f":"SUM(AH139:AK139)","v":0},0,null,0,0,{"$nulls":6},"2016년 부교재 지급","전문1팀"]

{"sheet":"2024년 이러닝 운영과정 목록","index":1,"n_rows":97,"n_cols":12,"rows_kept":97,"cut":false,"hidden":false,"merged":[[2,11,3,11],[2,10,3,10],[2,0,3,2],[2,3,3,3],[2,4,3,4],[2,5,3,5],[2,6,3,6],[2,7,3,7],[2,8,3,8],[2,9,3,9]]}
["2024년 5월 이러닝 운영 과정(총 64개 과정)"]
[]
["구분",null,null,"연번","과정명","수준","교육대상","과정수","차시수","인정시간","교육내용","비고"]
[]
["이러닝",{"$nulls":6},{"$f":"H6+H89","v":64},{"$f":"I6+I89","v":686},{"$f":"J6+J89","v":270}]
["B. 전문교육",{"$nulls":6},{"$f":"H7+H22+H30+H52+H77+H87","v":59},{"$f":"I7+I22+I30+I52+I77+I87","v":642},{"$f":"J7+J22+J30+J52+J77+J87","v":253}]
[null,"B-1. 국가통계정책",{"$nulls":5},{"$f":"H8+H18","v":12},{"$f":"I8+I18","v":148},58]
[null,null,"B-1-1. 통계정책",{"$nulls":4},{"$f":"SUM(H9:H17)","v":9},{"$f":"SUM(I9:I17)","v":118},46]
[null,null,null,1,"국가통계와 정책(신설)","초급","제한없음",1,4,1,"-국가통계의 의의, 주요 국가통계제도\n-통계정보서비스 시스템"]
[null,null,null,{"$f":"D9+1","v":2},"자체통계품질진단 관리","초급","제한없음",1,11,4,"-국가통계품질진단 개요 및 이해, 품질진단 유형, 자체통계품질 진단 흐름도, 수행 절차\n-자체통계품질진단시스템 사용법"]
[null,null,null,3,"지역정책과 통계 활용","초급","제한없음",1,23,11,"-지역정책 수립과 집행을 위한 지역사회지표 작성 및 활용방법, 지역통계 발전 방안 등"]
[null,null,null,4,"통계가 쉬워지는 기초 수학 끝내기","초급","제한없음",1,5,2,"-수학기호, 다항식과 연산, 순열과 조합, 함수, 미·적분"]
[null,null,null,5,"통계기초 및 활용(재개발)","중급","제한없음",1,25,13,"-표와 그래프, 대푯값, 선형관계, 확률변수, 확률분포, 기댓값\n-결합분포, 주변분포, 이상분포, 기타 이산형 분포, 정규분포\n-통게적 추론, 모집단 평균비표, 모집단 비율 비교\n-회귀분석 개념과 응용, 정리"]
[null,null,null,6,"통계업무 필수 지식(재개발)","초급","제한없음",1,8,4,"-통계와 통계의 역할, 자료수집, 자료분석\n-조사결과 보는 법, 예측"]
[null,null,null,7,"통계적으로 사고하기","중급","제한없음",1,13,3,"-통계적 필요/태도/용어/정리/모형 \n-확률과 생활 및 판단, 표본조사와 오차\n-통계적 추정, 합리적 의심\n-통계적 비교 및 관계 분석"]
[null,null,null,8,"통계품질관리","초급","제한없음",1,4,1,"-통계품질의 정의 및 품질차원\n-국가통계 품질진단 내용 및 방법, 품질관리 체계"]
[null,null,null,9,"통계학의 이해","초급","제한없음",1,25,7,"-통계의 필요성, 표본조사, 대푯값, 산포도\n-정규분포, 가설검정, 유의수준과 유의확률\n-분할표, 카이제곱 검정, 상관분석, 회귀분석, 평균 비교 등"]
[null,null,"B-1-2. 통계기준",{"$nulls":4},{"$f":"SUM(H19:H21)","v":3},{"$f":"SUM(I19:I21)","v":30},{"$f":"SUM(J19:J21)","v":12}]
[null,null,null,{"$f":"D17+1","v":10},"한국표준산업분류","초급","제한없음",1,13,6,"-개요 및 산업분류총설, 각 코드별 분류체계"]
[null,null,null,{"$f":"D19+1","v":11},"한국표준직업분류","초급","제한없음",1,14,5,"-직업분류 정의, 대분류별 분류체계"]
[null,null,null,{"$f":"D20+1","v":12},"한국종사상지위분류","초급","제한없음",1,3,1,"-개요, 지위 권한 유형, 경제적 위험 유형"]
[null,"B-2. 국가통계이해",{"$nulls":5},{"$f":"H23+H25","v":5},{"$f":"I23+I25","v":51},{"$f":"J23+J25","v":19}]
[null,null,"B-2-1. 경제통계",{"$nulls":4},{"$f":"SUM(H24:H24)","v":1},{"$f":"SUM(I24:I24)","v":15},{"$f":"SUM(J24:J24)","v":4}]
[null,null,null,13,"재무제표 이해","중급","제한없음",1,15,4,"-재무제표와 회계, 계정과목 기입 \n-유통기업/제조기업 재무제표 작성과정\n-제무상태표, 손익계산서\n-재무제표 분석 및 활용"]
[null,null,"B-2-2. 사회통계",{"$nulls":4},{"$f":"SUM(H26:H29)","v":4},{"$f":"SUM(I26:I29)","v":36},{"$f":"SUM(J26:J29)","v":15}]
[null,null,null,14,"사회통계의 이해","초급","제한없음",1,15,6,"-사회통계의 체계, 사회지표\n-가족·가구, 건강, 교육·훈련, 소득·소비·자산 등"]
[null,null,null,15,"이민자 체류실태 및 고용조사","초급","제한없음",1,9,3,"-체류외국인 및 귀화자 추이, 조사개요, 조사표 작성방법","차시별평가"]
[null,null,null,{"$f":"D27+1","v":16},"인구동향조사","초급","통계청,\n공무원",1,6,3,"-조사 개요, 인구동태 입력시스템 이용방법\n-주요업무개괄 및 국내인구이동통계","차시별평가"]
[null,null,null,17,"지역별고용조사","초급","제한없음",1,6,3,"-조사개요 및 조사기본 개념, 사례별 처리방법\n-현장조사방법, 조사표작성방법 등","차시별평가"]
[null,"B-3. 국가통계작성",{"$nulls":5},{"$f":"H31+H33+H41","v":18},{"$f":"I31+I33+I41","v":162},62]
[null,null,"B-3-1. 조사기획",{"$nulls":4},{"$f":"SUM(H32:H32)","v":1},{"$f":"SUM(I32:I32)","v":20},7]
[null,null,null,18,"조사방법의 이해","초급","제한없음",1,20,7,"-다양한 자료수집방법과 표본추출방법\n-질문지 작성에 관한 중요성과 조사방법의 기본 개념"]
[null,null,"B-3-2. 자료수집·처리 및 분석",{"$nulls":4},{"$f":"SUM(H34:H40)","v":7},{"$f":"SUM(I34:I40)","v":74},27]
[null,null,null,19,"시계열자료의 분석과 실무","고급","제한없음",1,16,5,"-시계열분석의 이론과 기법\n-계절프로그램(X-12a) 활용 및 사례"]
[null,null,null,{"$f":"D34+1","v":20},"자료수집","초급","제한없음",1,6,2,"-국가통계의 기초자료 수집 개요 및 사전준비, 대면조사, 비대면조사, 행정자료 이용, 가공통계 등"]
[null,null,null,21,"조사원 면접기법교육","초급","제한없음",1,7,1,"-조사원의 기본 역량과 사전교육의 면접기법, 현장교육의 현장조사 요령을 습득하여 조사품질제고"]
[null,null,null,22,"표본이론 기초","중급","제한없음",1,14,6,"-확률과 기댓값, 확률추출과 비확률 추출\n-층화추출, 계통추출, 집락추출방법, 확률비례추출법, 프로그램 활용 등"]
[null,null,null,23,"표본학습 기초","초급","제한없음",1,5,2,"-표본이론 발달역사, 표본기초의 이해, 표본규모의 결정, 표본추출 방법의 종류 등"]
[null,null,null,24,"현장조사 인력 양성","초급","제한없음",1,8,4,"-국가통계의 이해, 통계작성절차\n-현장조사 기본 요령, 조사거부 대상처 대응요령\n-국가통계활용사례 및 검색방법, 표본설계 및 통계조사오차"]
[null,null,null,25,"회귀분석의 이해와 사례","고급","제한없음",1,18,7,"-단순선형회귀, 다중선형회귀, 회귀모형의 진단, 질적 설명변수, 변수변환, 가중 최소제곱법, 공선형 자료분석, 로지스틱 회귀\n ※이론과정임"]
[null,null,"B-3-3. 공표 및 관리",{"$nulls":4},{"$f":"SUM(H42:H51)","v":10},{"$f":"SUM(I42:I51)","v":68},28]
[null,null,null,{"$f":"D40+1","v":26},"e-나라지표 업무관리시스템 담당자 교육(신설)","초급","제한없음",1,5,2,"-지표누리 소개 및 개요, 관리체계 안내, 지표관리 및 점검"]
[null,null,null,{"$f":"D42+1","v":27},"MDIS 활용","초급","제한없음",1,6,2,"-국가통계 마이크로데이터 통합서비스(MDIS) 소개 및 특징\n-마이크로데이터 추출 및 활용 등"]
[null,null,null,28,"NARA-PC 활용","초급","제한없음",1,10,6,"-NARA-PC 소개, 실행 및 조사 설정\n-조사표 및 조사대상처 설계, 입력, 취합\n-통계 및 분석(R패키지)"]
[null,null,null,29,"SGIS 플러스 활용","초급","제한없음",1,8,3,"-통계지리정보 소개, 검색 및 활용방법\n-자료제공서비스, OpenAPI 이용법\n-SGIS 에듀"]
[null,null,null,30,"국가통계포털(KOSIS) 활용","초급","제한없음",1,6,2,"-국가통계포털 소개, 통계정보 찾기, 통계표 조회, 부가서비스"]
[null,null,null,31,"나라통계시스템 조사통계 사용자교육","초급","제한없음",1,5,2,"-조사통계업무에 관련된 조사업무관리, 명부관리, 내검관리 및 집계표 설계 등"]
[null,null,null,32,"통계데이터 비밀보호","초급","제한없음",1,5,3,"-정보보호의 이해, 노출위험의 이해, 차등정보보호 데이터 안전하게 활용"]
[null,null,null,33,"통계작성기관을 위한 통계DB시스템사용법","초급","제한없음",1,5,2,"-통계DB의 이해와 통계표 설계, 통계표 생성방법, 통계표 수치입력,  목록연계 및 전송, 메뉴 활용 등"]
[null,null,null,34,"통계를 활용한 보고서 작성방법","중급","제한없음",1,12,4,"-개요, 과정의 이해, 통계의 활용(시각화, 수치값), 통계자료 해석/ 활용 시 고려사항, 보고서 작성 사례"]
[null,null,null,35,"재미있는 실용통계","초급","제한없음",1,6,2,"-통계 개요, 통계의 함정, 통계적 문제해결하기, 확률, 빅데이터 개요"]
[null,"B-4. 데이터 분석",{"$nulls":5},{"$f":"H53+H56+H59+H64+H67+H69+H74+H62","v":16},{"$f":"I53+I56+I59+I64+I67+I69+I74+I62","v":215},{"$f":"J53+J56+J59+J64+J67+J69+J74+J62","v":84}]
[null,null,"B-4-1. R",{"$nulls":4},{"$f":"SUM(H54:H55)","v":2},{"$f":"SUM(I54:I55)","v":50},26]
[null,null,null,{"$f":"D51+1","v":36},"R 기초","초급","제한없음",1,25,14,"-R 프로그램 설치, 기본 사용법, 자료 가공\n-일변량 자료분석, 교차표와 그래프, 산점도"]
[null,null,null,{"$f":"D54+1","v":37},"R을 활용한 통계분석","중급","제한없음",1,25,12,"-대푯값, 자료 가공, 그래프, 난수 모의실험\n-함수 그리기, 3차원그림, 회귀분석 등"]
[null,null,"B-4-2. SAS",{"$nulls":4},{"$f":"SUM(H57:H58)","v":2},{"$f":"SUM(I57:I58)","v":30},{"$f":"SUM(J57:J58)","v":11}]
[null,null,null,{"$f":"D55+1","v":38},"SAS를 활용한 초급 통계분석","초급","제한없음",1,15,6,"-통계표 작성, 상관분석, 단순선형회귀모형, 로지스틱 회귀분석, 요인분석, 군집분석 등"]
[null,null,null,{"$f":"D57+1","v":39},"SAS를 활용한 중급 통계분석","중급","제한없음",1,15,5,"- 데이터 기본 사용방법, 데이터 관리, 기술통계, 독립표본, 대응표본, 분산분석, 교차분석 등 "]
[null,null,"B-4-3. SPSS",{"$nulls":4},{"$f":"SUM(H60:H61)","v":2},{"$f":"SUM(I60:I61)","v":27},{"$f":"SUM(J60:J61)","v":9}]
[null,null,null,{"$f":"D58+1","v":40},"SPSS 초급 통계분석","초급","제한없음",1,14,5,"-SPSS 기본 사용방법, 데이터 작성 및 관리, 기술통계, 다중응답\n 자료 입력 및 분석, t-test, 분산분석 및 다중비교, 교차분석"]
[null,null,null,{"$f":"D60+1","v":41},"SPSS 중급 통계분석","중급","제한없음",1,13,4,"-통계표 작성, 분석결과 문서작성 및 명령어 사용, 상관분석, 선형 회귀분석모형, 다중회귀 표준화계수, 로지스틱 회귀분석, 신뢰도 분석, 요인분석, 군집분석"]
[null,null,"B-4-4. Stata",{"$nulls":4},{"$f":"SUM(H63)","v":1},{"$f":"SUM(I63)","v":8},4]
[null,null,null,{"$f":"D61+1","v":42},"Stata 기본 이해(신설)","초급","제한없음",1,8,4,"-데이터세트 준비, 데이터 처리, 그래프 그리기, 기초 통계량\n-t검정, 비모수적 검정, ANOVA, 선형회귀분석"]
[null,null,"B-4-5. 파이썬",{"$nulls":4},{"$f":"SUM(H65:H66)","v":2},{"$f":"SUM(I65:I66)","v":28},{"$f":"SUM(J65:J66)","v":9}]
[null,null,null,{"$f":"D63+1","v":43},"파이썬 데이터 분석 초급","초급","제한없음",1,13,3,"-파이썬 언어의 기본, 내장자료형, 조건문, 반복문, 파일 입출력 및 함수, 파이썬의 모듈, 통계적 머신러닝 등"]
[null,null,null,{"$f":"D65+1","v":44},"파이썬 데이터 분석 중급","중급","제한없음",1,15,6,"-데이터프레임 생성, 변환/ 외부데이터불러오기, 데이터 전처리, 데이터프레임 응용, 합치기, 선형회귀분석, 로지스틱회귀분석, KNN, SVM, Decision Tree, 군집분석, 모형진단과 교차검증"]
[null,null,"B-4-6. 엑셀",{"$nulls":4},{"$f":"SUM(H68:H68)","v":1},{"$f":"SUM(I68:I68)","v":12},{"$f":"SUM(J68:J68)","v":4}]
[null,null,null,{"$f":"D66+1","v":45},"엑셀로 배우는 통계분석","중급","제한없음",1,12,4,"-엑셀 통계분석의 시작, 데이터 수집과 정리, 중위수와 최빈수, \n 통계 데이터 시각화 방법, 가설검정과 통계적 추정 등"]
[null,null,"B-4-7. 빅데이터",{"$nulls":4},{"$f":"SUM(H70:H73)","v":4},{"$f":"SUM(I70:I73)","v":49},{"$f":"SUM(J70:J73)","v":18}]
[null,null,null,46,"데이터 분석을 위한 SQL 입문","초급","제한없음",1,13,3,"-SQL의 특징, SELECT 명령으로 데이터 조회하기, 산술연산과 정렬, 집합연산 활용하기, R에서 SQL의 활용 등"]
[null,null,null,{"$f":"D70+1","v":47},"미리 배우는 데이터사이언스(신설)","초급","제한없음",1,15,6,"-빅데이터 이해, 변동/관계/데이터/확률 이해\n-의사결정, 다중비교, 예측의 이해\n-과학/경제/공공/마케딩과 데이터 과학, 개인정보보호"]
[null,null,null,{"$f":"D71+1","v":48},"데이터사이언스 분석 사레(신설)","초급","제한없음",1,15,6,"-데이터 기반 의사결정, 디지털 전환 및 데이터사이언스 진화\n-AI, 딥런닝(이미지 인식, 번역), 진단분석과 이상탐지 사례\n-데이터 수집, 데이터 분석"]
[null,null,null,49,"데이터 전처리","초급","제한없음",1,6,3,"-데이터전처리 이해, 데이터 탐색, 결측치 처리, 이상치 판별, 데이터 변환, 모델링 데이터 준비"]
[null,null,"B-4-8. 기타",{"$nulls":4},{"$f":"SUM(H75:H76)","v":2},{"$f":"SUM(I75:I76)","v":11},{"$f":"SUM(J75:J76)","v":3}]
[null,null,null,{"$f":"D73+1","v":50},"통계 교육용 공학도구 통그라미 활용","초급","제한없음",1,6,2,"-통그라미 개요, 자료의 입력 및 생성, 자료변환, 그래프, 통계표\n 작성, 설문지 작성, 설문 및 자료 관리"]
[null,null,null,{"$f":"D75+1","v":51},"통계패키지 학습을 위한 필수 통계지식","중급","제한없음",1,5,1,"-통계 개념, 정규분포의 이해, 표본추출분포, 가설검정, 가설검정과 분석도구"]
[null,"B-6. 기타 통계교육",{"$nulls":5},{"$f":"H78+H83","v":7},{"$f":"I78+I83","v":54},26]
[null,null,"B-6-3. 학생교육",{"$nulls":4},{"$f":"SUM(H79:H82)","v":4},{"$f":"SUM(I79:I82)","v":21},11]
[null,null,null,{"$f":"D76+1","v":52},"역사속에서 찾은 통계이야기","초급","제한없음",1,7,5,"-역사 속 통계수치를 통해 역사적 사건을 이해\n※ 초등학교 5~6학년을 대상으로 제작"]
[null,null,null,{"$f":"D79+1","v":53},"통계로 논리 잡기","초급","제한없음",1,10,4,"-일상생할의 다향한 사례를 통계적으로 분석해 논리적인 사고 배양 \n※ 초·중학교 대상으로 제작"]
[null,null,null,54,"통계로 보는 안전교육","초급","제한없음",1,2,1,"-교통사고 예방, 학교 안전사고 예방\n※ 초등학교 5~6학년을 대상으로 제작"]
[null,null,null,55,"통계를 보면 경제가 보여요","초급","제한없음",1,2,1,"-인구통계와 경제관계, 미래산업의 변화와 통계\n※ 초등학교 5~6학년을 대상으로 제작"]
[null,null,"B-6-4. 교사교육",{"$nulls":4},{"$f":"SUM(H84:H86)","v":3},{"$f":"SUM(I84:I86)","v":33},{"$f":"SUM(J84:J86)","v":15}]
[null,null,null,{"$f":"D82+1","v":56},"실용통계 지도교사 통계연수(이론편)","초급","제한없음",1,12,5,"-통계와 통계적 문제해결, 자료와 표본, 자료의 요약과 표현, 변수 사이의 관계 등"]
[null,null,null,{"$f":"D84+1","v":57},"통계포스터 만들기 지도방법","초급","제한없음",1,6,3,"-통계적 문제해결과 통계포스터\n-문제설정 단계의 지도\n-통그라미를 이용한 자료의 수집 등"]
[null,null,null,58,"통계를 활용한 사회과 수행평가 구성 및 실천","초급","제한없음",1,15,7,"-통계 개요, 활용, 사회과 교과 역량과 통계의 활용, 교수학습 실천사례집 활용, 수행평가 고안, 사례"]
[null,"B-7. 정보화",{"$nulls":5},{"$f":"SUM(H88:H88)","v":1},{"$f":"SUM(I88:I88)","v":12},{"$f":"SUM(J88:J88)","v":4}]
[null,null,null,59,"초보자를 위한 엑셀 기초","초급","제한없음",1,12,4,"-데이터 입력 및 편집, 문서 서식 지정, 조건부 서식, 수식의 이해 및 작성, 논리 함수, 피벗 테이블 작성 등"]
["C. 기타교육",{"$nulls":6},{"$f":"H90","v":5},{"$f":"I90","v":44},{"$f":"J90","v":17}]
[null,"C-2. 일반소양",{"$nulls":5},{"$f":"SUM(H91:H95)","v":5},{"$f":"SUM(I91:I95)","v":44},{"$f":"SUM(J91:J95)","v":17}]
[null,null,null,60,"강의 운영 기법 및 전략","초급","제한없음",1,10,4,"-수업설계전략, 강의식 수업전략, 학습자료 개발전략, 내 수업 설계 하기 등"]
[null,null,null,61,"마음을 움직이는 설득 전략","초급","제한없음",1,10,4,"-마음을 움직이는 힘, 공감\n-설득을 위한 표현 기술, 일관성의 법칙 등"]
[null,null,null,62,"변화와 성장을 위한 밀레니얼 리더십","초급","제한없음",1,10,3,"-밀레니얼 세대 이해, 특징, 소통법, 밀레니얼에게 피드백 하는 \n 방법, 밀레니얼 세대와 함께 하는 리더십 "]
[null,null,null,63,"직장내 소통강화 대화센스","초급","제한없음",1,4,2,"-소통의 정의, 소통이 어려운 이유, 유형별 소통방법, 상황별 대화 센스"]
[null,null,null,64,"행복한 삶을 위한 스트레스 관리","초급","제한없음",1,10,4,"-나의 성격과 정서 알아보기, EQ란, 행복의 온도 맞추기, 관계에서 행복찾기 등"]
[]
[{"$nulls":4},"* 차시별 평가: 차시 학습 후 시험평가(3문제) 만점 시 다음 차시 진행"]