Workbook

Sheet 취업 관련 자격증 응시 현황
A1: [경영공학과] 취업 관련 자격증 응시 현황
A2: 구분 | B2: 학년-학기 (조사기간) | C2: 자격증명 | D2: 발급기관 | E2: 합격일자 | F2: 지원대상 | G2: 취업희망분야
G3: 선택1 | H3: 선택2 | I3: 선택3 | J3: 기타(상세내용)
A4: 1 | B4: 2026-1 | C4: 투자자산운용사 | D4: =IFERROR(VLOOKUP(C4, '지원대상 자격증 목록'!B:C, 2, FALSE), "") -> 한국금융투자협회 | E4: 46051 | F4: O | G4: 금융 | J4: -
A5: 2 | B5: 2026-1 | C5: 데이터분석 준전문가(ADsP) | D5: =IFERROR(VLOOKUP(C5, '지원대상 자격증 목록'!B:C, 2, FALSE), "") -> 한국데이터산업진흥원 | E5: 46087 | F5: O | G5: IT/빅데이터 | H5: 공공기관 | J5: -

Sheet 지원대상 자격증 목록
A1: [경영공학과] 지원대상 자격증 목록
A2: 조사일자: 2026. 5. 27. 기준
A3: 구분 | B3: 자격증명 | C3: 시행/주관 기관 | D3: 신청 사이트(링크) | E3: 실기(원) | F3: 필기(원) | G3: 총액(원) | H3: 합격인원(명) | I3: 비고
A4: 1 | B4: 정보처리기사 | C4: 한국산업인력공단 | D4: Q-net | E4: 19400 | F4: 22600 | G4: =E4+F4 -> 42000 | H4: =COUNTIF('취업 관련 자격증 응시 현황'!$C$4:$C$500, B4) -> 0
A5: 2 | B5: 품질경영기사 | C5: 한국산업인력공단 | D5: Q-net | E5: 19400 | F5: 22600 | G5: =E5+F5 -> 42000 | H5: =COUNTIF('취업 관련 자격증 응시 현황'!$C$4:$C$500, B5) -> 0
A6: 3 | B6: 빅데이터분석기사 | C6: 한국데이터산업진흥원 | D6: 데이터자격시험(KDATA) | E6: 17800 | F6: 40800 | G6: =E6+F6 -> 58600 | H6: =COUNTIF('취업 관련 자격증 응시 현황'!$C$4:$C$500, B6) -> 0
A7: 4 | B7: 데이터분석 준전문가(ADsP) | C7: 한국데이터산업진흥원 | D7: 데이터자격시험(KDATA) | E7: - | F7: - | G7: 50000 | H7: =COUNTIF('취업 관련 자격증 응시 현황'!$C$4:$C$500, B7) -> 1
A8: 5 | B8: SQLD | C8: 한국데이터산업진흥원 | D8: 데이터자격시험(KDATA) | E8: - | F8: - | G8: 50000 | H8: =COUNTIF('취업 관련 자격증 응시 현황'!$C$4:$C$500, B8) -> 0
A9: 6 | B9: ERP 생산정보관리사 | C9: 한국생산성본부 | D9: KPC 자격 | E9: 40000 | F9: 28000 | G9: =E9+F9 -> 68000 | H9: =COUNTIF('취업 관련 자격증 응시 현황'!$C$4:$C$500, B9) -> 0 | I9: 1과목기준, 부가가치세 포함 및 결제대행수수료 1,000원 별도
A10: 7 | B10: ERP 물류정보관리사 | C10: 한국생산성본부 | D10: KPC 자격 | E10: 40000 | F10: 28000 | G10: =E10+F10 -> 68000 | H10: =COUNTIF('취업 관련 자격증 응시 현황'!$C$4:$C$500, B10) -> 0 | I10: 1과목기준, 부가가치세 포함 및 결제대행수수료 1,000원 별도
A11: 8 | B11: 투자자산운용사 | C11: 한국금융투자협회 | D11: 금융투자협회 자격시험센터 | E11: - | F11: - | G11: 50000 | H11: =COUNTIF('취업 관련 자격증 응시 현황'!$C$4:$C$500, B11) -> 1
A12: 9 | B12: 금융투자분석사 | C12: 한국금융투자협회 | D12: 금융투자협회 자격시험센터 | E12: - | F12: - | G12: 50000 | H12: =COUNTIF('취업 관련 자격증 응시 현황'!$C$4:$C$500, B12) -> 0
A13: 10 | B13: 증권투자권유대행인 | C13: 한국금융투자협회 | D13: 금융투자협회 자격시험센터 | E13: - | F13: - | G13: 50000 | H13: =COUNTIF('취업 관련 자격증 응시 현황'!$C$4:$C$500, B13) -> 0
A14: 11 | B14: 펀드투자권유대행인 | C14: 한국금융투자협회 | D14: 금융투자협회 자격시험센터 | E14: - | F14: - | G14: 50000 | H14: =COUNTIF('취업 관련 자격증 응시 현황'!$C$4:$C$500, B14) -> 0
A15: 12 | B15: 전산세무 2급 | C15: 한국세무사회 | D15: 한국세무사회 자격시험 | E15: - | F15: - | G15: 30000 | H15: =COUNTIF('취업 관련 자격증 응시 현황'!$C$4:$C$500, B15) -> 0
A16: 13 | B16: 전산회계 1급 | C16: 한국세무사회 | D16: 한국세무사회 자격시험 | E16: - | F16: - | G16: 30000 | H16: =COUNTIF('취업 관련 자격증 응시 현황'!$C$4:$C$500, B16) -> 0
A17: 14 | B17: 재무위험관리사(FRM) | C17: GARP | D17: GARP | E17: - | F17: - | G17: 50000 | H17: =COUNTIF('취업 관련 자격증 응시 현황'!$C$4:$C$500, B17) -> 0
A18: 15 | B18: AFPK | C18: 한국FPSB | D18: FPSB Korea | E18: - | F18: - | G18: 66000 | H18: =COUNTIF('취업 관련 자격증 응시 현황'!$C$4:$C$500, B18) -> 0
A19: ※ ‘6시그마 Green Belt’ 자격증의 경우, 포트폴리오졸업인증제 구성안의 자격증 항목으로 등록되어 있으나 교육과정 이수 후 자격이 부여되는 민간자격증 형태로 확인되어 지원 대상에서 제외됨
