{"text_format":"2","workbook":"xlsx","n_sheets":14,"sheets":["0.안내문(필독)","0.기본정보입력(필수)","1.과제계획서","2.과제세부계획서","3.산학연계확인서","4.지원금 정산서","5.재료비 지출 내역서","6.문헌기부채납신청서","7.활동보고서","8.특별강의,자문확인서","9.인수 및 검수확인서","10.결과보고서","특강 및 자문료 지급 기준","사업자등록증"],"not_rendered":{"charts":0,"images":16,"macros":0,"external_links":0,"defined_names":10,"comments":0,"pivot_tables":0},"unopened":[],"bounds":{"document_bytes":16777216,"sheet_cells":100000,"run_cost":"one","rows_first":2000,"rows_last":500,"rows_between":2000,"halvings":0,"cell_chars":16384,"cell_head_chars":4096},"cells_cut":0,"cells_raw":0,"read":"whole","date_system":"1900"}

{"sheet":"0.안내문(필독)","index":0,"n_rows":17,"n_cols":3,"rows_kept":17,"cut":false,"hidden":false,"merged":[[4,0,6,0],[7,0,12,0],[0,0,0,2]]}
["<캡스톤디자인 서류 작성 안내>"]
[]
["1. 서류 제출 목록을 확인하시고 해당하는 양식을 작성 후 제출해 주시기 바랍니다."]
["구분","양식 번호","제출서류"]
["과제 신청 \n제출 서류",1,"캡스톤디자인 과제 계획서"]
[null,2,"캡스톤디자인 과제 세부 계획서"]
[null,3,"캡스톤디자인 산학연계 확인서\n(산학연계 트랙만 제출)"]
["지원금 정산 \n제출 서류",4,"캡스톤디자인 지원금 정산서"]
[null,5,"캡스톤디자인 재료비 지출 내역서"]
[null,6,"문헌 기부 채납 신청서"]
[null,7,"캡스톤디자인 활동보고서"]
[null,8,"캡스톤디자인 특별강의/자문 확인서"]
[null,9,"검수 및 인수증"]
["과제 결과보고 \n제출 서류",10,"캡스톤디자인 결과보고서"]
[]
["2. 하단의 \"0.기본정보입력(필수)\" 시트는 양식 작성 전에 필수로 입력해 주세요"]
["(나머지 양식에 기본 정보가 자동으로 입력 됨)"]

{"sheet":"0.기본정보입력(필수)","index":1,"n_rows":6,"n_cols":15,"rows_kept":6,"cut":false,"hidden":false,"merged":[]}
["순번","단과대학명","학부(과)","교과목명","분반","담당교수","과제명","팀명","결과물유형","트랙유형","팀 인원 수","지원금액"]
[0,"공과대학","소프트웨어학과","캡스톤디자인",1,"이순신","~소프트웨어 개발","홍길동팀","제안형",{"$f":"IF(I2=\"제품형\",\"전공B\",\"전공A\")","v":"전공A"},3,{"$f":"IF(J2=\"전공A\",K2*30000,\"300000\")","v":90000},"작성예시",null,"제품형"]
[1,{"$nulls":7},"제품형",{"$f":"IF(I3=\"제품형\",\"전공B\",\"전공A\")","v":"전공B"},5,{"$f":"IF(J3=\"전공A\",K3*30000,\"300000\")","v":"300000"},"실제작성 칸",null,"소프트웨어형"]
[{"$nulls":8},"<notice>\n\n\n\n\n\n\n\n\n\n\n",{"$nulls":5},"제안형"]
[{"$nulls":14},"전공트랙"]
[{"$nulls":14},"산학연계트랙"]

{"sheet":"1.과제계획서","index":2,"n_rows":27,"n_cols":14,"rows_kept":27,"cut":false,"hidden":false,"merged":[[6,1,6,3],[11,3,11,6],[21,5,21,6],[22,5,22,6],[7,3,7,6],[8,3,8,6],[9,3,9,6],[10,3,10,6],[17,5,17,6],[12,5,12,6],[13,5,13,6],[18,5,18,6],[25,0,26,0],[25,2,25,7],[26,2,26,7],[24,0,24,7],[23,1,23,7],[7,0,11,0],[12,0,22,0],[1,0,1,7],[2,1,2,3],[2,5,2,7],[19,5,19,6],[20,5,20,6],[6,5,6,7],[4,1,4,3],[3,1,3,3],[3,5,3,7],[5,5,5,7],[14,5,14,6],[15,5,15,6],[16,5,16,6],[5,1,5,3]]}
["[양식1]"]
["캡스톤디자인 과제 계획서"]
["학년도",2020,null,null,"학기",2]
["단과대학명",{"$f":"VLOOKUP(K4,'0.기본정보입력(필수)'!A2:L3,2,0)","v":0},null,null,"학부(과)",{"$f":"VLOOKUP(K4,'0.기본정보입력(필수)'!A2:L3,3,0)","v":0},null,null,null,"프린트",1,null,"팀장","재료비"]
["교과목명",{"$f":"VLOOKUP(K4,'0.기본정보입력(필수)'!A2:L3,4,0)","v":0},null,null,"분반",{"$f":"VLOOKUP(K4,'0.기본정보입력(필수)'!A2:L3,5,0)","v":0},"담당 교수",{"$f":"VLOOKUP(K4,'0.기본정보입력(필수)'!A2:L3,6,0)","v":0},{"$nulls":4},"팀원","활동비"]
["과제명",{"$f":"VLOOKUP(K4,'0.기본정보입력(필수)'!A2:L3,7,0)","v":0},null,null,"팀명",{"$f":"VLOOKUP(K4,'0.기본정보입력(필수)'!A2:L3,8,0)","v":0},{"$nulls":7},"특강 및 자문료"]
["결과물 유형",{"$f":"VLOOKUP(K4,'0.기본정보입력(필수)'!A2:L3,9,0)","v":"제품형"},null,null,"트랙 유형",{"$f":"VLOOKUP(K4,'0.기본정보입력(필수)'!A2:L3,10,0)","v":"전공B"}]
["지원금 예산 \n신청 내역","항목","금액(원)","산출내역",null,null,null,"비율(%)"]
[null,"재료비",{"$nulls":5},{"$f":"C9/$C$12","v":{"$error":"#DIV/0!"}}]
[{"$nulls":7},{"$f":"C10/$C$12","v":{"$error":"#DIV/0!"}}]
[{"$nulls":7},{"$error":"#DIV/0!"}]
[null,"합계",{"$f":"SUM(C9:C11)","v":0},{"$nulls":4},{"$error":"#DIV/0!"}]
["참가 학생","순번","팀장","학번","성명","개인정보 동의 여부",null,"서명"]
[null,1,"팀장"]
[null,2,"팀원"]
[null,3]
[null,4]
[null,5]
[null,6]
[null,7]
[null,8]
[null,9]
[null,10]
["개인정보 수집 및 이용에 대한 동의 내용","1. 개인정보 수집ㆍ이용 목적\n본 교육혁신추진팀은 캡스톤디자인 프로그램 중 교과목 운영을 목적으로 학생의 개인정보를 수집하고자 하며, 수집된 개인정보는 교과목 운영을 위한 목적으로만 이용됩니다. \n2. 수집하려는 개인정보의 항목 \n개인정보의 항목은 캡스톤디자인 참가자의 소속, 학번, 성명, 연락처, 계좌정보\n3. 개인정보의 보유 및 이용 기간: 5년\n수집된 개인정보는 보유기간 경과 시 파기됩니다. \n4. 동의를 거부할 권리 및 동의 거부에 따른 불이익 \n개인정보 수집 및 이용에 대하여 동의를 거부할 수 있으나, 거부할 시 캡스톤디자인 참가 신청이 완료되지 않음을 유의하시기 바랍니다."]
["위와 같이 과제계획서를 제출하며, 중도포기하거나 구입불가능 \n품목을 구입하여 한국연구재단 지적 및 환수 시에는 제반 규정에 따라 \n지급받은 지원금을 전액 반납할 것을 서약합니다.\n\n2020년    9월     일\n\n               담당교수 :                           (인)\n학과(부)장/전공주임 :                           (인)"]
["첨부서류","필수","과제 세부 계획서 1부"]
[null,"선택","산학연계 확인서 1부(산학연계트랙일 경우만)"]

{"sheet":"2.과제세부계획서","index":3,"n_rows":48,"n_cols":14,"rows_kept":48,"cut":false,"hidden":false,"merged":[[36,1,36,6],[27,0,27,7],[21,0,25,7],[46,1,46,7],[45,0,47,0],[47,1,47,7],[40,1,40,6],[41,1,41,6],[42,1,42,6],[43,1,43,6],[44,1,44,6],[45,1,45,6],[39,1,39,6],[29,1,29,6],[28,0,28,7],[30,1,30,6],[7,0,7,7],[33,1,33,6],[32,1,32,6],[34,1,34,6],[35,1,35,6],[31,1,31,6],[14,0,19,7],[37,1,37,6],[38,1,38,6],[4,1,4,3],[1,0,1,7],[2,1,2,3],[2,5,2,7],[3,1,3,3],[3,5,3,7],[8,0,12,7],[13,0,13,7],[20,0,20,7],[5,1,5,3],[5,5,5,7],[6,1,6,3],[6,5,6,7]]}
["[양식2]"]
["캡스톤디자인 과제 세부 계획서Ⅰ"]
["학년도",2020,null,null,"학기",2]
["단과대학명",{"$f":"VLOOKUP(K4,'0.기본정보입력(필수)'!A2:L3,2,0)","v":0},null,null,"학부(과)",{"$f":"VLOOKUP(K4,'0.기본정보입력(필수)'!A2:L3,3,0)","v":0},null,null,null,"프린트",1,null,"팀장","재료비"]
["교과목명",{"$f":"VLOOKUP(K4,'0.기본정보입력(필수)'!A2:L3,4,0)","v":0},null,null,"분반",{"$f":"VLOOKUP(K4,'0.기본정보입력(필수)'!A2:L3,5,0)","v":0},"담당 교수",{"$f":"VLOOKUP(K4,'0.기본정보입력(필수)'!A2:L3,6,0)","v":0},{"$nulls":4},"팀원","활동비"]
["과제명",{"$f":"VLOOKUP(K4,'0.기본정보입력(필수)'!A2:L3,7,0)","v":0},null,null,"팀명",{"$f":"VLOOKUP(K4,'0.기본정보입력(필수)'!A2:L3,8,0)","v":0},{"$nulls":7},"특강 및 자문료"]
["결과물 유형",{"$f":"VLOOKUP(K4,'0.기본정보입력(필수)'!A2:L3,9,0)","v":"제품형"},null,null,"트랙 유형",{"$f":"VLOOKUP(K4,'0.기본정보입력(필수)'!A2:L3,10,0)","v":"전공B"}]
["1. 과제의 목적 및 필요성(※300자 이상)"]
[]
[]
[]
[]
[]
["2. 과제 수행방법 및 결과물 개발계획(※400자 이상)"]
[]
[]
[]
[]
[]
[]
["3. 과제 결과물 개발 시 기대효과(※300자 이상)"]
[]
[]
[]
[]
[]
["[양식2-1]"]
["캡스톤디자인 과제 세부 계획서Ⅱ"]
["4. 주차별 추진 일정"]
["주차","추진 내용",{"$nulls":5},"비고"]
[1]
[2]
[3]
[4]
[5]
[6]
[7]
[8]
[9]
[10]
[11]
[12]
[13]
[14]
[15]
["작성 전\n체크리스트 ","▷ 캡스톤디자인 교과목 지원 가이드라인을 확인하고 숙지하셨습니까? "]
[null,"※ 가이드라인 미숙지로 인한 책임은 본인에게 있으며 위의 내용을 반드시 확인하고 \n캡스톤디자인 교과목을 성실히 수행할 것을 약속 합니다."]
[null,"팀장(학생):                                 (인)        "]

{"sheet":"3.산학연계확인서","index":4,"n_rows":16,"n_cols":11,"rows_kept":16,"cut":false,"hidden":false,"merged":[[12,0,12,7],[13,4,13,5],[13,6,13,7],[15,0,15,7],[5,1,5,3],[5,5,5,7],[6,1,6,3],[6,5,6,7],[14,4,14,5],[14,6,14,7],[7,0,7,7],[8,4,8,5],[10,4,10,5],[9,1,9,7],[8,1,8,3],[8,6,8,7],[10,6,10,7],[11,1,11,7],[10,1,10,3],[4,1,4,3],[1,0,1,7],[2,1,2,3],[2,5,2,7],[3,1,3,3],[3,5,3,7]]}
["[양식3]"]
["캡스톤디자인 산학연계 확인서"]
["학년도",2020,null,null,"학기",2]
["단과대학명",{"$f":"VLOOKUP(K4,'0.기본정보입력(필수)'!A2:L3,2,0)","v":0},null,null,"학부(과)",{"$f":"VLOOKUP(K4,'0.기본정보입력(필수)'!A2:L3,3,0)","v":0},null,null,null,"프린트",1]
["교과목명",{"$f":"VLOOKUP(K4,'0.기본정보입력(필수)'!A2:L3,4,0)","v":0},null,null,"분반",{"$f":"VLOOKUP(K4,'0.기본정보입력(필수)'!A2:L3,5,0)","v":0},"담당 교수",{"$f":"VLOOKUP(K4,'0.기본정보입력(필수)'!A2:L3,6,0)","v":0}]
["과제명",{"$f":"VLOOKUP(K4,'0.기본정보입력(필수)'!A2:L3,7,0)","v":0},null,null,"팀명",{"$f":"VLOOKUP(K4,'0.기본정보입력(필수)'!A2:L3,8,0)","v":0},null,null,null,"제품형"]
["결과물 유형",null,null,null,"트랙 유형","산학연계트랙",null,null,null,"소프트웨어형"]
["산학 연계 산업체 정보",{"$nulls":8},"제안형"]
["산업체명",null,null,null,"대표자명"]
["사업자 등록번호"]
["산업체 담당자 성명",null,null,null,"산업체 담당자 연락처 "]
["산업체 협력 방안","(예시)\n\n우리 팀은 (         )업체와 (                                ) 과제를 수행하기 위해 실무 담당자와의 멘토링 등을 통해 현장에 적용할 수 있는 제품 개발을 목표로 함\n\n- 세부 내용 작성"]
["2020년      월      일  "]
[{"$nulls":4},"산업체 담당자:",null,"(인)   "]
[{"$nulls":4},"팀장(학생):",null,"(인)   "]
["※ 본 서류는 상명대학교‘캡스톤디자인’교과목 참여 확인 목적으로 활용되며 이 외의 기타 상업적인 이용 등 다른 용도로 활용되지 않습니다.\n※ 산업체 2개 이상도 연계 가능. 단, 최소 2회 이상 산업체와 활동을 갖아야함(활동보고서 2건 이상 필수 제출)\n※ 결과보고서 작성시 산학연계 활동 결과 보고 제출 필수"]

{"sheet":"4.지원금 정산서","index":5,"n_rows":24,"n_cols":15,"rows_kept":24,"cut":false,"hidden":false,"merged":[[19,0,19,8],[21,6,21,8],[22,6,22,8],[23,0,23,8],[12,0,18,0],[18,1,18,6],[13,3,13,4],[14,3,14,4],[15,3,15,4],[16,3,16,4],[17,3,17,4],[20,0,20,8],[14,1,14,2],[15,1,15,2],[16,1,16,2],[17,1,17,2],[7,0,11,0],[7,1,7,2],[8,1,8,2],[9,1,9,2],[10,1,10,2],[11,1,11,2],[12,1,12,2],[13,1,13,2],[5,1,5,3],[6,1,6,3],[5,5,5,8],[6,5,6,8],[12,3,12,4],[7,7,7,8],[8,7,8,8],[9,7,9,8],[10,7,10,8],[11,7,11,8],[1,0,1,8],[3,5,3,8],[2,1,2,3],[3,1,3,3],[4,1,4,3],[4,7,4,8],[2,5,2,8]]}
["[양식4]"]
["캡스톤디자인 지원금 정산서"]
["학년도",2020,null,null,"학기",2,{"$nulls":7},"재료비","법인카드"]
["단과대학명",{"$f":"VLOOKUP(L4,'0.기본정보입력(필수)'!A2:L3,2,0)","v":0},null,null,"학부(과)",{"$f":"VLOOKUP(L4,'0.기본정보입력(필수)'!A2:L3,3,0)","v":0},{"$nulls":4},"프린트",1,null,"활동비","전자세금계산서"]
["교과목명",{"$f":"VLOOKUP(L4,'0.기본정보입력(필수)'!A2:L3,4,0)","v":0},null,null,"분반",{"$f":"VLOOKUP(L4,'0.기본정보입력(필수)'!A2:L3,5,0)","v":0},"담당 교수",{"$f":"VLOOKUP(L4,'0.기본정보입력(필수)'!A2:L3,6,0)","v":0},{"$nulls":5},"특강 및 자문료","현금영수증"]
["과제명",{"$f":"VLOOKUP(L4,'0.기본정보입력(필수)'!A2:L3,7,0)","v":0},null,null,"팀명",{"$f":"VLOOKUP(L4,'0.기본정보입력(필수)'!A2:L3,8,0)","v":0}]
["결과물 유형",{"$f":"VLOOKUP(L4,'0.기본정보입력(필수)'!A2:L3,9,0)","v":"제품형"},null,null,"트랙 유형",{"$f":"VLOOKUP(L4,'0.기본정보입력(필수)'!A2:L3,10,0)","v":"전공B"}]
["정산 내용","집행 항목",null,"총 예산","기집행액","집행액","잔액","비고"]
[null,"재료비",{"$nulls":4},{"$f":"D9-E9-F9","v":0}]
[{"$nulls":6},{"$f":"D10-E10-F10","v":0}]
[{"$nulls":6},0]
[null,"합계(원)",null,{"$f":"SUM(D9:D11)","v":0},{"$f":"SUM(E9:E11)","v":0},{"$f":"SUM(F9:F11)","v":0},{"$f":"SUM(G9:G11)","v":0}]
["사용 내역","집행 항목",null,"사용 내역",null,"거래처","거래일자","금액","결제방법"]
[null,"재료비",null,"\n예시: 아크릴 등 3종 구입\n",null,"\n지마켓\n","\n2020.10.10\n",50000,"법인카드"]
[]
[]
[]
[]
[null,"합계(원)",{"$nulls":5},{"$f":"SUM(H14:H18)","v":50000}]
["* 재료비 → 활동비→ 특강 및 자문료 순으로 영수증 단위로 입력, 영수증 5개 초과 시 칸 추가하여 기입 \n* 수기로 내용 수정 시 수정 내역 위에 팀장의 도장(서명) 필요(수정테이프 사용불가)"]
["위와 같이 정산을 요청 드리며,  \n과제와 연관된 구입내역임을 확인 및 책임 서약합니다.\n\n2020년       월       일"]
[{"$nulls":5},"팀장(학생):","(인)   "]
[{"$nulls":5},"담당교수:","(인)   "]
["교육혁신원장 귀하"]

{"sheet":"5.재료비 지출 내역서","index":6,"n_rows":12,"n_cols":15,"rows_kept":12,"cut":false,"hidden":false,"merged":[[11,0,11,8],[12,0,29,8],[10,0,10,8],[5,1,5,3],[5,5,5,8],[6,1,6,3],[6,5,6,8],[7,1,7,8],[7,0,8,0],[8,1,8,3],[8,4,8,8],[9,1,9,8],[4,1,4,3],[4,7,4,8],[1,0,1,8],[2,1,2,3],[2,5,2,8],[3,1,3,3],[3,5,3,8]]}
["[양식5]"]
["캡스톤디자인 재료비 지출 내역서"]
["학년도",2020,null,null,"학기",2,{"$nulls":7},"재료비","법인카드"]
["단과대학명",{"$f":"VLOOKUP(L4,'0.기본정보입력(필수)'!A2:L3,2,0)","v":0},null,null,"학부(과)",{"$f":"VLOOKUP(L4,'0.기본정보입력(필수)'!A2:L3,3,0)","v":0},{"$nulls":4},"프린트",1,null,"활동비","전자세금계산서"]
["교과목명",{"$f":"VLOOKUP(L4,'0.기본정보입력(필수)'!A2:L3,4,0)","v":0},null,null,"분반",{"$f":"VLOOKUP(L4,'0.기본정보입력(필수)'!A2:L3,5,0)","v":0},"담당 교수",{"$f":"VLOOKUP(L4,'0.기본정보입력(필수)'!A2:L3,6,0)","v":0},{"$nulls":5},"특강 및 자문료","현금영수증"]
["과제명",{"$f":"VLOOKUP(L4,'0.기본정보입력(필수)'!A2:L3,7,0)","v":0},null,null,"팀명",{"$f":"VLOOKUP(L4,'0.기본정보입력(필수)'!A2:L3,8,0)","v":0}]
["결과물 유형",{"$f":"VLOOKUP(L4,'0.기본정보입력(필수)'!A2:L3,9,0)","v":"제품형"},null,null,"트랙 유형",{"$f":"VLOOKUP(L4,'0.기본정보입력(필수)'!A2:L3,10,0)","v":"전공B"}]
["영수증 첨부","영수증 or 세금계산서 부착"]
[null,"활용 용도(과제와의 연관성)"]
["사진 부착","사진 부착(필수)\n(영수증 기입된 구입물품 및 결과물 반영 사진)"]
["※ 영수증은 반드시 겹치지 않게 부착하며 양식 1개당 1건 부착, 영수증이 많을 경우 페이지 추가하여 작성"]
["거래명세서(견적서) 부착"]

{"sheet":"6.문헌기부채납신청서","index":7,"n_rows":16,"n_cols":15,"rows_kept":16,"cut":false,"hidden":false,"merged":[[15,0,15,8],[14,0,14,8],[6,0,6,8],[13,0,13,4],[5,1,5,3],[5,5,5,8],[4,1,4,3],[4,7,4,8],[1,0,1,8],[2,1,2,3],[2,5,2,8],[3,1,3,3],[3,5,3,8]]}
["[양식6]"]
["캡스톤디자인 문헌 기부채납 신청서"]
["학년도",2020,null,null,"학기",2,{"$nulls":7},"재료비","법인카드"]
["단과대학명",{"$f":"VLOOKUP(L4,'0.기본정보입력(필수)'!A2:L3,2,0)","v":0},null,null,"학부(과)",{"$f":"VLOOKUP(L4,'0.기본정보입력(필수)'!A2:L3,3,0)","v":0},{"$nulls":4},"프린트",1,null,"활동비","전자세금계산서"]
["교과목명",{"$f":"VLOOKUP(L4,'0.기본정보입력(필수)'!A2:L3,4,0)","v":0},null,null,"분반",{"$f":"VLOOKUP(L4,'0.기본정보입력(필수)'!A2:L3,5,0)","v":0},"담당 교수",{"$f":"VLOOKUP(L4,'0.기본정보입력(필수)'!A2:L3,6,0)","v":0},{"$nulls":5},"특강 및 자문료","현금영수증"]
["과제명",{"$f":"VLOOKUP(L4,'0.기본정보입력(필수)'!A2:L3,7,0)","v":0},null,null,"팀명",{"$f":"VLOOKUP(L4,'0.기본정보입력(필수)'!A2:L3,8,0)","v":0}]
["도서 목록"]
["번호","도서명","저자","출판사","출판년도","구입금액","ISBN번호","구매자","성명"]
[1]
[2]
[3]
[4]
[5]
["합계",{"$nulls":4},{"$f":"SUM(F9:F13)","v":0}]
["위 문헌은 캡스톤디자인 교과목 지원금으로 구매하였으며  \n상명대학교 학술정보관에 기부채납을 신청합니다.\n\n2020년        월        일\n\n                                                               팀장(학생):                      (인)\n\n                                                                          학술정보관장 귀하"]
["\n상기 도서를 정히 인수함\n\n학술정보지원팀(학술정보관) 팀장/담당자                         (인)"]

{"sheet":"7.활동보고서","index":8,"n_rows":20,"n_cols":15,"rows_kept":20,"cut":false,"hidden":false,"merged":[[10,4,10,8],[11,4,16,8],[18,0,18,8],[20,0,62,8],[4,1,4,3],[4,7,4,8],[5,1,5,3],[5,5,5,8],[6,1,6,3],[6,5,6,8],[8,1,8,8],[19,0,19,8],[9,0,9,8],[10,0,10,3],[7,1,7,3],[7,5,7,8],[1,0,1,8],[2,1,2,3],[2,5,2,8],[3,1,3,3],[3,5,3,8]]}
["[양식7]"]
["캡스톤디자인 활동보고서Ⅰ"]
["학년도",2020,null,null,"학기",2,{"$nulls":7},"재료비","법인카드"]
["단과대학명",{"$f":"VLOOKUP(L4,'0.기본정보입력(필수)'!A2:L3,2,0)","v":0},null,null,"학부(과)",{"$f":"VLOOKUP(L4,'0.기본정보입력(필수)'!A2:L3,3,0)","v":0},{"$nulls":4},"프린트",1,null,"활동비","전자세금계산서"]
["교과목명",{"$f":"VLOOKUP(L4,'0.기본정보입력(필수)'!A2:L3,4,0)","v":0},null,null,"분반",{"$f":"VLOOKUP(L4,'0.기본정보입력(필수)'!A2:L3,5,0)","v":0},"담당 교수",{"$f":"VLOOKUP(L4,'0.기본정보입력(필수)'!A2:L3,6,0)","v":0},{"$nulls":5},"특강 및 자문료","현금영수증"]
["과제명",{"$f":"VLOOKUP(L4,'0.기본정보입력(필수)'!A2:L3,7,0)","v":0},null,null,"팀명",{"$f":"VLOOKUP(L4,'0.기본정보입력(필수)'!A2:L3,8,0)","v":0}]
["활동일시",null,null,null,"시간"]
["결과물 유형",{"$f":"VLOOKUP(L4,'0.기본정보입력(필수)'!A2:L3,9,0)","v":"제품형"},null,null,"트랙 유형",{"$f":"VLOOKUP(L4,'0.기본정보입력(필수)'!A2:L3,10,0)","v":"전공B"}]
["활동 내용","(예시)\n▶ 활동 목표\n1. 내용입력\n2. 내용입력\n\n▶ 활동내용 및 결과\n1. 내용입력\n2. 내용입력       \n \n  ※ 최소 10줄 이상 작성, 활동 내용에 따라 여러 장에 걸쳐 작성할 수 있음"]
["※ 활동일시: 영수증 발행시간이 활동 시간안에 반드시 포함되어야 함(영수증 후면 첨부)\n※ 1인당 1만원 이내 사용(카페 음료 1인당 1잔), 서명 인원은 팀원 수(+교수님, 멘토)를 초과할 수 없음\n※ 동일한 날짜에 사용한 식사(식당)영수증과 음료(카페)영수증은 정산될 수 없음.\n※ 수기로 내용 수정 시 수정 내역 위에 팀장의 도장(서명) 필요(수정테이프 사용불가)"]
["참석자 명단",null,null,null,"활동 사진"]
["이름","서명","이름","서명","사진 부착(필수)\n(회의/활동하는 모습을 \n참여인원이 모두 보이게 촬영)\n(단순 식사, 음료 사진×)"]
[]
[]
[]
[]
[]
["[양식7-1]"]
["캡스톤디자인 활동보고서Ⅱ"]
["활동보고서 영수증 부착"]

{"sheet":"8.특별강의,자문확인서","index":9,"n_rows":18,"n_cols":17,"rows_kept":18,"cut":false,"hidden":false,"merged":[[13,2,13,3],[9,5,9,7],[14,0,14,7],[15,0,15,7],[17,0,17,7],[10,5,10,7],[11,5,11,7],[12,5,12,7],[13,6,13,7],[12,2,12,3],[16,0,16,7],[9,0,13,0],[4,1,4,3],[8,1,8,7],[9,2,9,3],[10,2,10,3],[11,2,11,3],[7,1,7,3],[7,5,7,7],[5,1,5,3],[5,5,5,7],[6,1,6,3],[6,5,6,7],[1,0,1,7],[2,1,2,3],[2,5,2,7],[3,1,3,3],[3,5,3,7]]}
["[양식8]"]
["캡스톤디자인 특별강의/자문 확인서"]
["학년도",2020,null,null,"학기",2]
["단과대학명",{"$f":"VLOOKUP(K4,'0.기본정보입력(필수)'!A2:L3,2,0)","v":0},null,null,"학부(과)",{"$f":"VLOOKUP(K4,'0.기본정보입력(필수)'!A2:L3,3,0)","v":0},null,null,null,"프린트",1,null,"팀장","재료비"]
["교과목명",{"$f":"VLOOKUP(K4,'0.기본정보입력(필수)'!A2:L3,4,0)","v":0},null,null,"분반",{"$f":"VLOOKUP(K4,'0.기본정보입력(필수)'!A2:L3,5,0)","v":0},"담당 교수",{"$f":"VLOOKUP(K4,'0.기본정보입력(필수)'!A2:L3,6,0)","v":0},{"$nulls":4},"팀원","활동비"]
["과제명",{"$f":"VLOOKUP(K4,'0.기본정보입력(필수)'!A2:L3,7,0)","v":0},null,null,"팀명",{"$f":"VLOOKUP(K4,'0.기본정보입력(필수)'!A2:L3,8,0)","v":0},{"$nulls":7},"특강 및 자문료"]
["일시",null,null,null,"장소"]
["결과물 유형",{"$f":"VLOOKUP(L4,'0.기본정보입력(필수)'!A2:L3,9,0)","v":"제안형"},null,null,"트랙 유형",{"$f":"VLOOKUP(K4,'0.기본정보입력(필수)'!A2:L3,10,0)","v":"전공B"}]
["내용","(예시)\n※ 특강 주제 / 자문 내용 등 간략하게 기술\n※ 추가 첨부 : 이력서, 특강자료, 자문 및 평가 자료"]
["강사\n인적사항","성명",null,null,"소속/직급",{"$nulls":7},"A",1,null,null,"특강"]
[null,"주민등록번호",null,null,"은행명",{"$nulls":7},"B",2,null,null,"자문"]
[null,"계좌번호",null,null,"예금주명",{"$nulls":7},"C",3]
[null,"연락처",null,null,"유형","자문",{"$nulls":6},"D",4]
[null,"지급금액(원)",null,null,"강사료 등급",{"$nulls":7},"E",5]
["※ 특별강의 참석팀 중 특별강의 예산배정 팀만 해당양식 제출\n※ 지급금액은 1회 특강료 기준에 맞게 기입",{"$nulls":12},6]
["특별강의/자문 사진 부착(필수)\n(특강자 및 참여인원 모두 보이게 촬영)",{"$nulls":12},7]
["[개인정보 수집‧이용 동의서]\n1. 개인정보의 수집·이용 목적: 교육혁신추진팀에서는 캡스톤디자인 프로그램 중 전문가 활용을 목적으로 개인정보를 수집하고자 하며, 수집된 개인정보는 강사료 지급을 위한 목적으로만 이용됩니다. \n2. 수집하려는 개인정보의 항목: 개인정보의 항목은 강사의 소속, 주민번호, 강사료 입금 은행 및 계좌, 예금주명, 연락처\n3. 개인정보의 보유 및 이용 기간: 수집된 개인 정보는 강사료 지급 후 즉시 파기\n4. 동의를 거부할 권리 및 동의 거부에 따른 불이익: 개인정보 수집 및 이용에 대하여 동의를 거부할 수 있으나, 거부할 시 강사료 지급이 제한 될 수 있습니다.\n",{"$nulls":12},8]
["강사명:                              (인)     "]

{"sheet":"9.인수 및 검수확인서","index":10,"n_rows":20,"n_cols":10,"rows_kept":20,"cut":false,"hidden":false,"merged":[[7,2,7,7],[7,8,7,9],[10,0,10,9],[17,0,17,9],[1,0,1,9],[3,0,3,1],[3,2,3,9],[4,0,7,1],[4,2,4,7],[4,8,4,9],[5,2,5,7],[5,8,5,9],[6,2,6,7],[6,8,6,9]]}
["[양식9]"]
["검 수  및  인 수 확 인 서"]
[]
["품목 및 수량",null,"세      부      내      역"]
["(예시)\n모조지 1종",null,"거래명세서 내용과 동일",{"$nulls":5}," (      ) "]
[null,null,"견적서 내용과 동일",{"$nulls":5}," (      ) "]
[null,null,"영수증 내용과 동일",{"$nulls":5}," (       ) "]
[null,null,"기타(세금계산서) 내용과 동일 ",{"$nulls":5}," (       ) "]
[]
["        위와 같이 검수 하였음."]
[20201026]
[]
["검수자","직  위",null,"담당교수",null,"성  명",null,"유관순",null,"(인)"]
[]
[]
[]
["        위 검수조서 물품을 정히 인수함."]
[{"$f":"A11","v":20201026}]
[]
["인수자","직  위",null,"학과조교",null,"성  명",null,"홍길동",null,"(인)"]

{"sheet":"10.결과보고서","index":11,"n_rows":16,"n_cols":14,"rows_kept":16,"cut":false,"hidden":false,"merged":[[14,0,14,7],[15,0,15,7],[7,1,7,7],[9,1,9,7],[10,1,10,7],[11,0,11,7],[13,0,13,7],[5,1,5,3],[5,5,5,7],[8,1,8,7],[1,0,1,7],[2,1,2,3],[2,5,2,7],[3,1,3,3],[3,5,3,7],[4,1,4,3],[6,1,6,3],[6,5,6,7]]}
["[양식10]"]
["캡스톤디자인 결과보고서Ⅰ"]
["학년도",2020,null,null,"학기",2]
["단과대학명",{"$f":"VLOOKUP(K4,'0.기본정보입력(필수)'!A2:L3,2,0)","v":0},null,null,"학부(과)",{"$f":"VLOOKUP(K4,'0.기본정보입력(필수)'!A2:L3,3,0)","v":0},null,null,null,"프린트",1,null,"팀장","재료비"]
["교과목명",{"$f":"VLOOKUP(K4,'0.기본정보입력(필수)'!A2:L3,4,0)","v":0},null,null,"분반",{"$f":"VLOOKUP(K4,'0.기본정보입력(필수)'!A2:L3,5,0)","v":0},"담당 교수",{"$f":"VLOOKUP(K4,'0.기본정보입력(필수)'!A2:L3,6,0)","v":0},{"$nulls":4},"팀원","활동비"]
["과제명",{"$f":"VLOOKUP(K4,'0.기본정보입력(필수)'!A2:L3,7,0)","v":0},null,null,"팀명",{"$f":"VLOOKUP(K4,'0.기본정보입력(필수)'!A2:L3,8,0)","v":0},{"$nulls":7},"특강 및 자문료"]
["결과물 유형",{"$f":"VLOOKUP(L4,'0.기본정보입력(필수)'!A2:L3,9,0)","v":"제안형"},null,null,"트랙 유형",{"$f":"VLOOKUP(K4,'0.기본정보입력(필수)'!A2:L3,10,0)","v":"전공B"}]
["팀원(성명)"]
["과제 목적"]
["과제 내용 \n및 결과","※ 과제 결과물 이미지/사진 등 첨부(필수)",{"$nulls":10},"A",1]
["활용방안 \n및 기대효과"]
["위와 같이 캡스톤디자인 결과보고서를 제출합니다.\n\n2020년   월   일\n\n                                                                                      팀장(학생) :                  (인)\n\n                                                                                      담당교수 :                    (인)"]
["[양식10-1]"]
["캡스톤디자인 결과보고서Ⅱ(산학연계인 경우)"]
["산학연계 활동 결과 보고(산학연계트랙만 필수 기입)"]
["(산학연계 한 산업체(담당자)와 특강/자문/회의/심의 등 구체적인 산학연계 활동 내역 기재/사진 부착)"]

{"sheet":"특강 및 자문료 지급 기준","index":12,"n_rows":1,"n_cols":1,"rows_kept":1,"cut":false,"hidden":false,"merged":[]}
["[별첨1]"]

{"sheet":"사업자등록증","index":13,"n_rows":1,"n_cols":1,"rows_kept":1,"cut":false,"hidden":false,"merged":[]}
["[별첨2]"]